BEGIN:VCALENDAR
VERSION:2.0
PRODID:-//Smögens Öråd - ECPv6.15.11//NONSGML v1.0//EN
CALSCALE:GREGORIAN
METHOD:PUBLISH
X-ORIGINAL-URL:https://www.smogen.com
X-WR-CALDESC:Händelser för Smögens Öråd
REFRESH-INTERVAL;VALUE=DURATION:PT1H
X-Robots-Tag:noindex
X-PUBLISHED-TTL:PT1H
BEGIN:VTIMEZONE
TZID:Europe/Stockholm
BEGIN:DAYLIGHT
TZOFFSETFROM:+0100
TZOFFSETTO:+0200
TZNAME:CEST
DTSTART:20220327T010000
END:DAYLIGHT
BEGIN:STANDARD
TZOFFSETFROM:+0200
TZOFFSETTO:+0100
TZNAME:CET
DTSTART:20221030T010000
END:STANDARD
BEGIN:DAYLIGHT
TZOFFSETFROM:+0100
TZOFFSETTO:+0200
TZNAME:CEST
DTSTART:20230326T010000
END:DAYLIGHT
BEGIN:STANDARD
TZOFFSETFROM:+0200
TZOFFSETTO:+0100
TZNAME:CET
DTSTART:20231029T010000
END:STANDARD
BEGIN:DAYLIGHT
TZOFFSETFROM:+0100
TZOFFSETTO:+0200
TZNAME:CEST
DTSTART:20240331T010000
END:DAYLIGHT
BEGIN:STANDARD
TZOFFSETFROM:+0200
TZOFFSETTO:+0100
TZNAME:CET
DTSTART:20241027T010000
END:STANDARD
END:VTIMEZONE
BEGIN:VEVENT
DTSTART;TZID=Europe/Stockholm:20230618T000000
DTEND;TZID=Europe/Stockholm:20230618T000000
DTSTAMP:20260422T140705
CREATED:20230618T132858Z
LAST-MODIFIED:20230618T132858Z
UID:1443-1687046400-1687046400@www.smogen.com
SUMMARY:Guidad tur i Smögens gamla kvarter #2
DESCRIPTION:Med Kristina Grahl och Lars Bredin . Samling vid Spruthuset på Smögens torg den 2 augusti kl. 17.00 . Beräknad tid 2 timmar. \n100 kr/vuxen\, 50 kr/barn: betalas med Swish eller kontant vid start. \nStöd föreningen med ditt medlemskap!  Välkommen!
URL:https://www.smogen.com/event/guidad-tur-i-smogens-gamla-kvarter-2-2/
CATEGORIES:Aktivitet,Hembygdsföreningen,Historia,Kultur,Utbildande
ATTACH;FMTTYPE=image/jpeg:https://www.smogen.com/wp-content/uploads/2023/06/Spruthuset-web.jpg
END:VEVENT
BEGIN:VEVENT
DTSTART;TZID=Europe/Stockholm:20230621T170000
DTEND;TZID=Europe/Stockholm:20230621T190000
DTSTAMP:20260422T140705
CREATED:20230618T064202Z
LAST-MODIFIED:20230618T132631Z
UID:1439-1687366800-1687374000@www.smogen.com
SUMMARY:Guidad tur i Smögens gamla kvarter
DESCRIPTION:Med Kristina Grahl och Lars Bredin Samling vid Spruthuset på Smögens Torg  21 juni kl. 17.00 . Beräknad tid 2 timmar. \n100 kr/vuxen\, 50 kr/barn: betalas med Swish eller kontant vid start. \nStöd föreningen med ditt medlemskap!  Välkommen!
URL:https://www.smogen.com/event/guidad-tur-i-smogens-gamla-kvarter/
LOCATION:Spruthuset
CATEGORIES:Aktivitet,Hembygdsföreningen,Historia,Utbildande
ATTACH;FMTTYPE=image/jpeg:https://www.smogen.com/wp-content/uploads/2023/06/Spruthuset-web.jpg
END:VEVENT
BEGIN:VEVENT
DTSTART;TZID=Europe/Stockholm:20230623T150000
DTEND;TZID=Europe/Stockholm:20230623T160000
DTSTAMP:20260422T140705
CREATED:20230618T072732Z
LAST-MODIFIED:20230618T131232Z
UID:1449-1687532400-1687536000@www.smogen.com
SUMMARY:Midsommar i Badhusparken
DESCRIPTION:Med dans kring stången. Medtag kaffekorg. Kom gärna redan klockan 10.00 och hjälp till att klä midsommarstången.
URL:https://www.smogen.com/event/midsommar-i-badhusparken/
LOCATION:Badhusparken\, Makrillgatan\, Smögen\, 456 51
CATEGORIES:Aktivitet,Kaffe,Socialt
ATTACH;FMTTYPE=image/jpeg:https://www.smogen.com/wp-content/uploads/2022/02/Smogen-badhusparken-midsommar-drone.jpg
END:VEVENT
BEGIN:VEVENT
DTSTART;TZID=Europe/Stockholm:20230623T180000
DTEND;TZID=Europe/Stockholm:20230624T030000
DTSTAMP:20260422T140705
CREATED:20230619T093224Z
LAST-MODIFIED:20230619T094142Z
UID:1560-1687543200-1687575600@www.smogen.com
SUMMARY:Social insats
DESCRIPTION:Ankarsalen i Equmeniakyrkan kommer vara samlingspunkt för stödinsatser kopplat till midsommarfirande. Equmeniakyrkan gör detta ihop med Socialtjänst och blåljuspersonal. Välkommen förbi om du är ute och nattvandrar.
URL:https://www.smogen.com/event/social-insats/
LOCATION:Equmeniakyrkan\, Brunnsgatan 7\, Smögen\, Sverige
CATEGORIES:Aktivitet,Socialt
ATTACH;FMTTYPE=image/jpeg:https://www.smogen.com/wp-content/uploads/2023/06/polis-ambulans-midsommar.jpg
END:VEVENT
BEGIN:VEVENT
DTSTART;TZID=Europe/Stockholm:20230624T180000
DTEND;TZID=Europe/Stockholm:20230625T030000
DTSTAMP:20260422T140705
CREATED:20230619T093453Z
LAST-MODIFIED:20230619T094059Z
UID:1563-1687629600-1687662000@www.smogen.com
SUMMARY:Social insats
DESCRIPTION:Ankarsalen i Equmeniakyrkan kommer vara samlingspunkt för stödinsatser kopplat till midsommarfirande. Equmeniakyrkan gör detta ihop med Socialtjänst och blåljuspersonal. Välkommen förbi om du är ute och nattvandrar.
URL:https://www.smogen.com/event/social-insats-2/
LOCATION:Equmeniakyrkan\, Brunnsgatan 7\, Smögen\, Sverige
CATEGORIES:Aktivitet,Socialt
ATTACH;FMTTYPE=image/jpeg:https://www.smogen.com/wp-content/uploads/2023/06/polis-ambulans-midsommar.jpg
END:VEVENT
BEGIN:VEVENT
DTSTART;TZID=Europe/Stockholm:20230626T160000
DTEND;TZID=Europe/Stockholm:20230626T180000
DTSTAMP:20260422T140705
CREATED:20220712T122903Z
LAST-MODIFIED:20230618T141824Z
UID:1143-1687795200-1687802400@www.smogen.com
SUMMARY:Boule i Badhusparken
DESCRIPTION:PRO på Smögen anordnar Boule i Badhusparken\, måndagar och torsdagar kl 16.00-18.00. Tiderna kan komma att ändras beroende av väder.
URL:https://www.smogen.com/event/boule-i-badhusparken-0626-2/
LOCATION:Badhusparken\, Makrillgatan\, Smögen\, 456 51
CATEGORIES:Aktivitet,Socialt,Sport
ATTACH;FMTTYPE=image/jpeg:https://www.smogen.com/wp-content/uploads/2022/07/Boule-badhusparken.jpg
END:VEVENT
BEGIN:VEVENT
DTSTART;TZID=Europe/Stockholm:20230627T193000
DTEND;TZID=Europe/Stockholm:20230627T213000
DTSTAMP:20260422T140705
CREATED:20230618T161556Z
LAST-MODIFIED:20230618T161556Z
UID:1542-1687894200-1687901400@www.smogen.com
SUMMARY:Fotboll på Havsvallen
DESCRIPTION:Smögens IF – Rosseröds IK. Kl 19.30 på Havsvallen.\nDiv 5 herr Bohuslän
URL:https://www.smogen.com/event/fotboll-pa-havsvallen/
LOCATION:Idrottshuset
CATEGORIES:Aktivitet,Socialt,Sport
ATTACH;FMTTYPE=image/jpeg:https://www.smogen.com/wp-content/uploads/2023/06/348560574_1650362838740641_5019574143297541520_n.jpg
END:VEVENT
BEGIN:VEVENT
DTSTART;TZID=Europe/Stockholm:20230628T180000
DTEND;TZID=Europe/Stockholm:20230628T210000
DTSTAMP:20260422T140705
CREATED:20220712T132326Z
LAST-MODIFIED:20230618T150414Z
UID:1176-1687975200-1687986000@www.smogen.com
SUMMARY:Equmenias Sommarhäng
DESCRIPTION:Sommarpremiär för 2023! Ungdomssamling på onsdagkvällar för dig som gått ut 6:e klass och äldre. Vi ses vid beachvolleyplanen ovanför tennishallen (till vänster efter bron)\, Fortsättning med bad\, grill och fotboll på Hasselösund. Medtag vatten. Grillmat till självkostnadspris. Vid frågor: kontakta ledare Mattias Schläger\, 0703-972670.
URL:https://www.smogen.com/event/equmenias-sommarhang-2/
LOCATION:Beachvolleyplanen
CATEGORIES:Aktivitet,Socialt,Sport
ATTACH;FMTTYPE=image/jpeg:https://www.smogen.com/wp-content/uploads/2022/07/Eq-sommarhang.jpg
END:VEVENT
BEGIN:VEVENT
DTSTART;VALUE=DATE:20230629
DTEND;VALUE=DATE:20230703
DTSTAMP:20260422T140705
CREATED:20230618T165959Z
LAST-MODIFIED:20230618T165959Z
UID:1553-1687996800-1688342399@www.smogen.com
SUMMARY:Kalles Kaviar Cup
DESCRIPTION:Den årliga fotbollscupen för unga.\nLäs mer här
URL:https://www.smogen.com/event/kalles-kaviar-cup/
LOCATION:Idrottshuset
CATEGORIES:Aktivitet,Socialt,Sport
ATTACH;FMTTYPE=image/jpeg:https://www.smogen.com/wp-content/uploads/2023/06/35829_bg2.jpg
END:VEVENT
BEGIN:VEVENT
DTSTART;TZID=Europe/Stockholm:20230629T160000
DTEND;TZID=Europe/Stockholm:20230629T180000
DTSTAMP:20260422T140705
CREATED:20220712T122800Z
LAST-MODIFIED:20230618T141808Z
UID:1142-1688054400-1688061600@www.smogen.com
SUMMARY:Boule i Badhusparken
DESCRIPTION:PRO på Smögen anordnar Boule i Badhusparken\, måndagar och torsdagar kl 16.00-18.00. Tiderna kan komma att ändras beroende av väder.
URL:https://www.smogen.com/event/boule-i-badhusparken-0629/
LOCATION:Badhusparken\, Makrillgatan\, Smögen\, 456 51
CATEGORIES:Aktivitet,Socialt,Sport
ATTACH;FMTTYPE=image/jpeg:https://www.smogen.com/wp-content/uploads/2022/07/Boule-badhusparken.jpg
END:VEVENT
END:VCALENDAR