BEGIN:VCALENDAR
VERSION:2.0
PRODID:-//Smögens Öråd - ECPv6.15.11//NONSGML v1.0//EN
CALSCALE:GREGORIAN
METHOD:PUBLISH
X-ORIGINAL-URL:https://www.smogen.com
X-WR-CALDESC:Händelser för Smögens Öråd
REFRESH-INTERVAL;VALUE=DURATION:PT1H
X-Robots-Tag:noindex
X-PUBLISHED-TTL:PT1H
BEGIN:VTIMEZONE
TZID:Europe/Stockholm
BEGIN:DAYLIGHT
TZOFFSETFROM:+0100
TZOFFSETTO:+0200
TZNAME:CEST
DTSTART:20220327T010000
END:DAYLIGHT
BEGIN:STANDARD
TZOFFSETFROM:+0200
TZOFFSETTO:+0100
TZNAME:CET
DTSTART:20221030T010000
END:STANDARD
BEGIN:DAYLIGHT
TZOFFSETFROM:+0100
TZOFFSETTO:+0200
TZNAME:CEST
DTSTART:20230326T010000
END:DAYLIGHT
BEGIN:STANDARD
TZOFFSETFROM:+0200
TZOFFSETTO:+0100
TZNAME:CET
DTSTART:20231029T010000
END:STANDARD
BEGIN:DAYLIGHT
TZOFFSETFROM:+0100
TZOFFSETTO:+0200
TZNAME:CEST
DTSTART:20240331T010000
END:DAYLIGHT
BEGIN:STANDARD
TZOFFSETFROM:+0200
TZOFFSETTO:+0100
TZNAME:CET
DTSTART:20241027T010000
END:STANDARD
END:VTIMEZONE
BEGIN:VEVENT
DTSTART;TZID=Europe/Stockholm:20230813T160000
DTEND;TZID=Europe/Stockholm:20230813T180000
DTSTAMP:20260422T110835
CREATED:20230618T161810Z
LAST-MODIFIED:20230618T161810Z
UID:1545-1691942400-1691949600@www.smogen.com
SUMMARY:Fotboll på Havsvallen
DESCRIPTION:Smögens IF – Svenshögens SK. Kl 16.00 på Havsvallen.\nDiv 5 herr Bohuslän
URL:https://www.smogen.com/event/fotboll-pa-havsvallen-2/
LOCATION:Idrottshuset
CATEGORIES:Aktivitet,Socialt,Sport
ATTACH;FMTTYPE=image/jpeg:https://www.smogen.com/wp-content/uploads/2023/06/348560574_1650362838740641_5019574143297541520_n.jpg
END:VEVENT
BEGIN:VEVENT
DTSTART;TZID=Europe/Stockholm:20230816T170000
DTEND;TZID=Europe/Stockholm:20230816T190000
DTSTAMP:20260422T110835
CREATED:20230618T070214Z
LAST-MODIFIED:20230618T134000Z
UID:1446-1692205200-1692212400@www.smogen.com
SUMMARY:Guidad tur i Smögens gamla kvarter
DESCRIPTION:Med Kristina Grahl och Lars Bredin . Samling vid Spruthuset på Smögens torg den 16 augusti kl. 17.00 . Beräknad tid 2 timmar. \n100 kr/vuxen\, 50 kr/barn: betalas med Swish eller kontant vid start. \nStöd föreningen med ditt medlemskap!  Välkommen!
URL:https://www.smogen.com/event/guidad-tur-i-smogens-gamla-kvarter-0816/
LOCATION:Spruthuset
CATEGORIES:Aktivitet,Hembygdsföreningen,Historia,Kultur,Utbildande
ATTACH;FMTTYPE=image/jpeg:https://www.smogen.com/wp-content/uploads/2023/06/Spruthuset-web.jpg
END:VEVENT
END:VCALENDAR