BEGIN:VCALENDAR
VERSION:2.0
PRODID:-//Smögens Öråd - ECPv6.15.11//NONSGML v1.0//EN
CALSCALE:GREGORIAN
METHOD:PUBLISH
X-WR-CALNAME:Smögens Öråd
X-ORIGINAL-URL:https://www.smogen.com
X-WR-CALDESC:Händelser för Smögens Öråd
REFRESH-INTERVAL;VALUE=DURATION:PT1H
X-Robots-Tag:noindex
X-PUBLISHED-TTL:PT1H
BEGIN:VTIMEZONE
TZID:Europe/Stockholm
BEGIN:DAYLIGHT
TZOFFSETFROM:+0100
TZOFFSETTO:+0200
TZNAME:CEST
DTSTART:20210328T010000
END:DAYLIGHT
BEGIN:STANDARD
TZOFFSETFROM:+0200
TZOFFSETTO:+0100
TZNAME:CET
DTSTART:20211031T010000
END:STANDARD
BEGIN:DAYLIGHT
TZOFFSETFROM:+0100
TZOFFSETTO:+0200
TZNAME:CEST
DTSTART:20220327T010000
END:DAYLIGHT
BEGIN:STANDARD
TZOFFSETFROM:+0200
TZOFFSETTO:+0100
TZNAME:CET
DTSTART:20221030T010000
END:STANDARD
BEGIN:DAYLIGHT
TZOFFSETFROM:+0100
TZOFFSETTO:+0200
TZNAME:CEST
DTSTART:20230326T010000
END:DAYLIGHT
BEGIN:STANDARD
TZOFFSETFROM:+0200
TZOFFSETTO:+0100
TZNAME:CET
DTSTART:20231029T010000
END:STANDARD
END:VTIMEZONE
BEGIN:VEVENT
DTSTART;TZID=Europe/Stockholm:20220730T100000
DTEND;TZID=Europe/Stockholm:20220730T160000
DTSTAMP:20260423T215111
CREATED:20220725T162651Z
LAST-MODIFIED:20220725T163753Z
UID:1265-1659175200-1659196800@www.smogen.com
SUMMARY:Sjöräddningens dag
DESCRIPTION:Smögens kaj
URL:https://www.smogen.com/event/sjoraddningens-dag/
LOCATION:Smögens kaj
CATEGORIES:Aktivitet,Socialt,Utbildande
ATTACH;FMTTYPE=image/jpeg:https://www.smogen.com/wp-content/uploads/2022/07/ssrs-smogen-ovning-tangen.jpg
END:VEVENT
BEGIN:VEVENT
DTSTART;TZID=Europe/Stockholm:20220730T100000
DTEND;TZID=Europe/Stockholm:20220730T160000
DTSTAMP:20260423T215111
CREATED:20220725T163151Z
LAST-MODIFIED:20220725T163910Z
UID:1269-1659175200-1659196800@www.smogen.com
SUMMARY:Öppet hus i Lotsutkiken
DESCRIPTION:Passa på att besöka och gå upp i den branta trappan i öns landmärke Lotsutkiken. Guidning på plats. Öppet 10–16 under Sjöräddningens dag. Information: Jan O Hansson 0702-901678\,\nLeif Johansson 0702-615780.
URL:https://www.smogen.com/event/oppet-hus-i-lotsutkiken/
LOCATION:Lotsutkiken
CATEGORIES:Aktivitet,Historia,Kultur,Utbildande
ATTACH;FMTTYPE=image/jpeg:https://www.smogen.com/wp-content/uploads/2022/02/Lotsutkiken.jpg
END:VEVENT
END:VCALENDAR