BEGIN:VCALENDAR
VERSION:2.0
PRODID:-//Smögens Öråd - ECPv6.15.11//NONSGML v1.0//EN
CALSCALE:GREGORIAN
METHOD:PUBLISH
X-ORIGINAL-URL:https://www.smogen.com
X-WR-CALDESC:Händelser för Smögens Öråd
REFRESH-INTERVAL;VALUE=DURATION:PT1H
X-Robots-Tag:noindex
X-PUBLISHED-TTL:PT1H
BEGIN:VTIMEZONE
TZID:Europe/Stockholm
BEGIN:DAYLIGHT
TZOFFSETFROM:+0100
TZOFFSETTO:+0200
TZNAME:CEST
DTSTART:20250330T010000
END:DAYLIGHT
BEGIN:STANDARD
TZOFFSETFROM:+0200
TZOFFSETTO:+0100
TZNAME:CET
DTSTART:20251026T010000
END:STANDARD
BEGIN:DAYLIGHT
TZOFFSETFROM:+0100
TZOFFSETTO:+0200
TZNAME:CEST
DTSTART:20260329T010000
END:DAYLIGHT
BEGIN:STANDARD
TZOFFSETFROM:+0200
TZOFFSETTO:+0100
TZNAME:CET
DTSTART:20261025T010000
END:STANDARD
BEGIN:DAYLIGHT
TZOFFSETFROM:+0100
TZOFFSETTO:+0200
TZNAME:CEST
DTSTART:20270328T010000
END:DAYLIGHT
BEGIN:STANDARD
TZOFFSETFROM:+0200
TZOFFSETTO:+0100
TZNAME:CET
DTSTART:20271031T010000
END:STANDARD
END:VTIMEZONE
BEGIN:VEVENT
DTSTART;TZID=Europe/Stockholm:20260329T160000
DTEND;TZID=Europe/Stockholm:20260329T183000
DTSTAMP:20260419T224825
CREATED:20260305T101401Z
LAST-MODIFIED:20260305T101401Z
UID:2514-1774800000-1774809000@www.smogen.com
SUMMARY:Årsmöte\, Smögens hembygdsförening
DESCRIPTION:Sedvanliga mötesförhandlingar. Efter årsmötet lyssnar vi på en berättelse om ångaren Zephyr och dess förlisning vid Rasmusskär. \nKaffe serveras. \nStöd gärna föreningen med ditt medlemskap. Välkommen! \nÖvrig information: Under våren har Bildarkivet öppet lördagar i jämna veckor kl 13.00 – 16.00.
URL:https://www.smogen.com/event/arsmote-smogens-hembygdsforening-2/
LOCATION:Församlingshemmet\, Smögen\, Kyrkogatan 16\, Smögen\, 45651\, Sverige
CATEGORIES:Aktivitet,Årsmöte,Hembygdsföreningen,Historia,Kaffe,Kultur,Möte,Utbildande
ATTACH;FMTTYPE=image/jpeg:https://www.smogen.com/wp-content/uploads/2022/02/kaffekopp-bulle.jpg
END:VEVENT
END:VCALENDAR