BEGIN:VCALENDAR
VERSION:2.0
PRODID:-//Smögens Öråd - ECPv6.15.11//NONSGML v1.0//EN
CALSCALE:GREGORIAN
METHOD:PUBLISH
X-ORIGINAL-URL:https://www.smogen.com
X-WR-CALDESC:Händelser för Smögens Öråd
REFRESH-INTERVAL;VALUE=DURATION:PT1H
X-Robots-Tag:noindex
X-PUBLISHED-TTL:PT1H
BEGIN:VTIMEZONE
TZID:Europe/Stockholm
BEGIN:DAYLIGHT
TZOFFSETFROM:+0100
TZOFFSETTO:+0200
TZNAME:CEST
DTSTART:20240331T010000
END:DAYLIGHT
BEGIN:STANDARD
TZOFFSETFROM:+0200
TZOFFSETTO:+0100
TZNAME:CET
DTSTART:20241027T010000
END:STANDARD
BEGIN:DAYLIGHT
TZOFFSETFROM:+0100
TZOFFSETTO:+0200
TZNAME:CEST
DTSTART:20250330T010000
END:DAYLIGHT
BEGIN:STANDARD
TZOFFSETFROM:+0200
TZOFFSETTO:+0100
TZNAME:CET
DTSTART:20251026T010000
END:STANDARD
BEGIN:DAYLIGHT
TZOFFSETFROM:+0100
TZOFFSETTO:+0200
TZNAME:CEST
DTSTART:20260329T010000
END:DAYLIGHT
BEGIN:STANDARD
TZOFFSETFROM:+0200
TZOFFSETTO:+0100
TZNAME:CET
DTSTART:20261025T010000
END:STANDARD
END:VTIMEZONE
BEGIN:VEVENT
DTSTART;TZID=Europe/Stockholm:20251207T160000
DTEND;TZID=Europe/Stockholm:20251207T180000
DTSTAMP:20260420T014130
CREATED:20251009T081442Z
LAST-MODIFIED:20251129T181151Z
UID:2460-1765123200-1765130400@www.smogen.com
SUMMARY:Musikquiz och lokala namn som riskerar att försvinna
DESCRIPTION:På programmet står musikquiz\, samt diskussion och insamling av lokala namn som riskerar att försvinna\, typ Veteberget\, Märleviken mfl. \nLotterier. Kaffe serveras. Varmt välkommen! 
URL:https://www.smogen.com/event/musikquiz-och-lokala-namn-som-riskerar-att-forsvinna/
LOCATION:Församlingshemmet\, Smögen\, Kyrkogatan 16\, Smögen\, 45651\, Sverige
CATEGORIES:Aktivitet,Hembygdsföreningen,Historia,Kaffe,Kultur,Möte,Socialt,Utbildande
ATTACH;FMTTYPE=image/jpeg:https://www.smogen.com/wp-content/uploads/2022/06/Alerannan-2-1.jpg
END:VEVENT
BEGIN:VEVENT
DTSTART;TZID=Europe/Stockholm:20251213T130000
DTEND;TZID=Europe/Stockholm:20251213T160000
DTSTAMP:20260420T014130
CREATED:20251009T074146Z
LAST-MODIFIED:20251009T074146Z
UID:2458-1765630800-1765641600@www.smogen.com
SUMMARY:Öppet i Bildarkivet
DESCRIPTION:Bildarkivet håller öppet under hösten på lördagar i jämna veckor t.o.m. 13 december kl. 13-16 \nDu är varmt välkommen in på ett besök\, så får du se vad vi jobbar med just nu.
URL:https://www.smogen.com/event/oppet-i-bildarkivet-3-2-2/
LOCATION:Bildarkivet
CATEGORIES:Aktivitet,Hembygdsföreningen,Historia,Kultur
ATTACH;FMTTYPE=image/jpeg:https://www.smogen.com/wp-content/uploads/2022/02/bildarkiv1.jpg
END:VEVENT
END:VCALENDAR