BEGIN:VCALENDAR
VERSION:2.0
PRODID:-//Smögens Öråd - ECPv6.15.11//NONSGML v1.0//EN
CALSCALE:GREGORIAN
METHOD:PUBLISH
X-WR-CALNAME:Smögens Öråd
X-ORIGINAL-URL:https://www.smogen.com
X-WR-CALDESC:Händelser för Smögens Öråd
REFRESH-INTERVAL;VALUE=DURATION:PT1H
X-Robots-Tag:noindex
X-PUBLISHED-TTL:PT1H
BEGIN:VTIMEZONE
TZID:Europe/Stockholm
BEGIN:DAYLIGHT
TZOFFSETFROM:+0100
TZOFFSETTO:+0200
TZNAME:CEST
DTSTART:20220327T010000
END:DAYLIGHT
BEGIN:STANDARD
TZOFFSETFROM:+0200
TZOFFSETTO:+0100
TZNAME:CET
DTSTART:20221030T010000
END:STANDARD
BEGIN:DAYLIGHT
TZOFFSETFROM:+0100
TZOFFSETTO:+0200
TZNAME:CEST
DTSTART:20230326T010000
END:DAYLIGHT
BEGIN:STANDARD
TZOFFSETFROM:+0200
TZOFFSETTO:+0100
TZNAME:CET
DTSTART:20231029T010000
END:STANDARD
BEGIN:DAYLIGHT
TZOFFSETFROM:+0100
TZOFFSETTO:+0200
TZNAME:CEST
DTSTART:20240331T010000
END:DAYLIGHT
BEGIN:STANDARD
TZOFFSETFROM:+0200
TZOFFSETTO:+0100
TZNAME:CET
DTSTART:20241027T010000
END:STANDARD
END:VTIMEZONE
BEGIN:VEVENT
DTSTART;TZID=Europe/Stockholm:20230704T163000
DTEND;TZID=Europe/Stockholm:20230704T183000
DTSTAMP:20260422T191834
CREATED:20220711T093238Z
LAST-MODIFIED:20230618T150853Z
UID:1082-1688488200-1688495400@www.smogen.com
SUMMARY:Museerna och Bildarkivet
DESCRIPTION:Fiskarstugan\, Sjöbodsmuseet och Bildarkivet håller öppet tisdagar och torsdagar kl 16.30–18.30. Läs mer under hembygdsföreningen och dess sidor.
URL:https://www.smogen.com/event/museerna-och-bildarkivet-3/
LOCATION:https://goo.gl/maps/zyqdASug22hzMNu4A\, Kilevägen 3\, Smögen
CATEGORIES:Hembygdsföreningen,Historia,Kultur
ATTACH;FMTTYPE=image/jpeg:https://www.smogen.com/wp-content/uploads/2022/06/Museet-1.jpg
END:VEVENT
BEGIN:VEVENT
DTSTART;TZID=Europe/Stockholm:20230706T163000
DTEND;TZID=Europe/Stockholm:20230706T183000
DTSTAMP:20260422T191834
CREATED:20220711T090424Z
LAST-MODIFIED:20230618T150212Z
UID:1074-1688661000-1688668200@www.smogen.com
SUMMARY:Museerna och Bildarkivet
DESCRIPTION:Fiskarstugan\, Sjöbodsmuseet och Bildarkivet håller öppet tisdagar och torsdagar kl 16.30–18.30. Läs mer under hembygdsföreningen och dess sidor.
URL:https://www.smogen.com/event/museerna-och-bildarkivet/
LOCATION:https://goo.gl/maps/zyqdASug22hzMNu4A\, Kilevägen 3\, Smögen
CATEGORIES:Hembygdsföreningen,Historia,Kultur
ATTACH;FMTTYPE=image/jpeg:https://www.smogen.com/wp-content/uploads/2022/06/Museet-1.jpg
END:VEVENT
BEGIN:VEVENT
DTSTART;TZID=Europe/Stockholm:20230711T163000
DTEND;TZID=Europe/Stockholm:20230711T183000
DTSTAMP:20260422T191834
CREATED:20220711T095151Z
LAST-MODIFIED:20230618T152833Z
UID:1098-1689093000-1689100200@www.smogen.com
SUMMARY:Museerna och Bildarkivet
DESCRIPTION:Fiskarstugan\, Sjöbodsmuseet och Bildarkivet håller öppet tisdagar och torsdagar kl 16.30–18.30. Läs mer under hembygdsföreningen och dess sidor.
URL:https://www.smogen.com/event/museerna-och-bildarkivet-4/
LOCATION:https://goo.gl/maps/zyqdASug22hzMNu4A\, Kilevägen 3\, Smögen
CATEGORIES:Hembygdsföreningen,Historia,Kultur
ATTACH;FMTTYPE=image/jpeg:https://www.smogen.com/wp-content/uploads/2022/06/Museet-1.jpg
END:VEVENT
BEGIN:VEVENT
DTSTART;TZID=Europe/Stockholm:20230713T163000
DTEND;TZID=Europe/Stockholm:20230713T183000
DTSTAMP:20260422T191834
CREATED:20220711T095723Z
LAST-MODIFIED:20230618T152916Z
UID:1101-1689265800-1689273000@www.smogen.com
SUMMARY:Museerna och Bildarkivet
DESCRIPTION:Fiskarstugan\, Sjöbodsmuseet och Bildarkivet håller öppet tisdagar och torsdagar kl 16.30–18.30. Läs mer under hembygdsföreningen och dess sidor.
URL:https://www.smogen.com/event/museerna-och-bildarkivet-7/
LOCATION:https://goo.gl/maps/zyqdASug22hzMNu4A\, Kilevägen 3\, Smögen
CATEGORIES:Hembygdsföreningen,Historia,Kultur
ATTACH;FMTTYPE=image/jpeg:https://www.smogen.com/wp-content/uploads/2022/06/Museet-1.jpg
END:VEVENT
BEGIN:VEVENT
DTSTART;TZID=Europe/Stockholm:20230718T163000
DTEND;TZID=Europe/Stockholm:20230718T183000
DTSTAMP:20260422T191834
CREATED:20220711T095326Z
LAST-MODIFIED:20230618T153004Z
UID:1099-1689697800-1689705000@www.smogen.com
SUMMARY:Museerna och Bildarkivet
DESCRIPTION:Fiskarstugan\, Sjöbodsmuseet och Bildarkivet håller öppet tisdagar och torsdagar kl 16.30–18.30. Läs mer under hembygdsföreningen och dess sidor.
URL:https://www.smogen.com/event/museerna-och-bildarkivet-5/
LOCATION:https://goo.gl/maps/zyqdASug22hzMNu4A\, Kilevägen 3\, Smögen
CATEGORIES:Hembygdsföreningen,Historia,Kultur
ATTACH;FMTTYPE=image/jpeg:https://www.smogen.com/wp-content/uploads/2022/06/Museet-1.jpg
END:VEVENT
BEGIN:VEVENT
DTSTART;TZID=Europe/Stockholm:20230720T163000
DTEND;TZID=Europe/Stockholm:20230720T183000
DTSTAMP:20260422T191834
CREATED:20220711T095434Z
LAST-MODIFIED:20230618T153045Z
UID:1100-1689870600-1689877800@www.smogen.com
SUMMARY:Museerna och Bildarkivet
DESCRIPTION:Fiskarstugan\, Sjöbodsmuseet och Bildarkivet håller öppet tisdagar och torsdagar kl 16.30–18.30. Läs mer under hembygdsföreningen och dess sidor.
URL:https://www.smogen.com/event/museerna-och-bildarkivet-6/
LOCATION:https://goo.gl/maps/zyqdASug22hzMNu4A\, Kilevägen 3\, Smögen
CATEGORIES:Hembygdsföreningen,Historia,Kultur
ATTACH;FMTTYPE=image/jpeg:https://www.smogen.com/wp-content/uploads/2022/06/Museet-1.jpg
END:VEVENT
BEGIN:VEVENT
DTSTART;TZID=Europe/Stockholm:20230725T163000
DTEND;TZID=Europe/Stockholm:20230725T183000
DTSTAMP:20260422T191834
CREATED:20220711T100253Z
LAST-MODIFIED:20230618T153142Z
UID:1108-1690302600-1690309800@www.smogen.com
SUMMARY:Museerna och Bildarkivet
DESCRIPTION:Fiskarstugan\, Sjöbodsmuseet och Bildarkivet håller öppet tisdagar och torsdagar kl 16.30–18.30. Läs mer under hembygdsföreningen och dess sidor.
URL:https://www.smogen.com/event/museerna-och-bildarkivet-9/
LOCATION:https://goo.gl/maps/zyqdASug22hzMNu4A\, Kilevägen 3\, Smögen
CATEGORIES:Hembygdsföreningen,Historia,Kultur
ATTACH;FMTTYPE=image/jpeg:https://www.smogen.com/wp-content/uploads/2022/06/Museet-1.jpg
END:VEVENT
END:VCALENDAR