BEGIN:VCALENDAR
VERSION:2.0
PRODID:-//Smögens Öråd - ECPv6.15.11//NONSGML v1.0//EN
CALSCALE:GREGORIAN
METHOD:PUBLISH
X-WR-CALNAME:Smögens Öråd
X-ORIGINAL-URL:https://www.smogen.com
X-WR-CALDESC:Händelser för Smögens Öråd
REFRESH-INTERVAL;VALUE=DURATION:PT1H
X-Robots-Tag:noindex
X-PUBLISHED-TTL:PT1H
BEGIN:VTIMEZONE
TZID:Europe/Stockholm
BEGIN:DAYLIGHT
TZOFFSETFROM:+0100
TZOFFSETTO:+0200
TZNAME:CEST
DTSTART:20250330T010000
END:DAYLIGHT
BEGIN:STANDARD
TZOFFSETFROM:+0200
TZOFFSETTO:+0100
TZNAME:CET
DTSTART:20251026T010000
END:STANDARD
BEGIN:DAYLIGHT
TZOFFSETFROM:+0100
TZOFFSETTO:+0200
TZNAME:CEST
DTSTART:20260329T010000
END:DAYLIGHT
BEGIN:STANDARD
TZOFFSETFROM:+0200
TZOFFSETTO:+0100
TZNAME:CET
DTSTART:20261025T010000
END:STANDARD
BEGIN:DAYLIGHT
TZOFFSETFROM:+0100
TZOFFSETTO:+0200
TZNAME:CEST
DTSTART:20270328T010000
END:DAYLIGHT
BEGIN:STANDARD
TZOFFSETFROM:+0200
TZOFFSETTO:+0100
TZNAME:CET
DTSTART:20271031T010000
END:STANDARD
END:VTIMEZONE
BEGIN:VEVENT
DTSTART;TZID=Europe/Stockholm:20260511T093000
DTEND;TZID=Europe/Stockholm:20260511T170000
DTSTAMP:20260419T193525
CREATED:20260413T074029Z
LAST-MODIFIED:20260413T074244Z
UID:2536-1778491800-1778518800@www.smogen.com
SUMMARY:Resa med m/s Soten den 11 maj
DESCRIPTION:Tillsammans med Ankarträffen i Equmenia ordnar vi en resa med Soten till Fjällbacka måndagen den 11 maj. \nAvresa från Smögen kl.09.30 \nKaffe med fralla serveras under gång.\nLunch serveras vid kaj i Fjällbacka.\nEftermiddagsfika på vägen hemåt. \nUnder färden får vi historisk information av Allan Olsson från Kiddön och musikalisk underhållning av Owe Åsberg m.fl. \nBeräknad hemkomst kl. 17.00 \nPris inklusive servering 550 kr/person. Betalas till besättningen ombord. \nAnmälan senast 4 maj till Lars Sewerinson tel. 0705-972060 eller mail lars.sewerinson@gmail.com \nVi ser fram emot en fin tur med Soten där det finns gott om plats ombord samt även möjlighet för den som är rullstolsbunden att åka med. \nVälkommen ombord. \nResan arrangeras i samarbete med ABF.
URL:https://www.smogen.com/event/resa-med-m-s-soten-den-11-maj/
CATEGORIES:Aktivitet,Hembygdsföreningen,Historia,Kaffe,Kultur,Natur,Utbildande
ATTACH;FMTTYPE=image/jpeg:https://www.smogen.com/wp-content/uploads/2022/03/Pallare-smogenbryggan-soten.jpg
END:VEVENT
END:VCALENDAR