BEGIN:VCALENDAR
VERSION:2.0
PRODID:-//Smögens Öråd - ECPv6.15.11//NONSGML v1.0//EN
CALSCALE:GREGORIAN
METHOD:PUBLISH
X-ORIGINAL-URL:https://www.smogen.com
X-WR-CALDESC:Händelser för Smögens Öråd
REFRESH-INTERVAL;VALUE=DURATION:PT1H
X-Robots-Tag:noindex
X-PUBLISHED-TTL:PT1H
BEGIN:VTIMEZONE
TZID:Europe/Stockholm
BEGIN:DAYLIGHT
TZOFFSETFROM:+0100
TZOFFSETTO:+0200
TZNAME:CEST
DTSTART:20210328T010000
END:DAYLIGHT
BEGIN:STANDARD
TZOFFSETFROM:+0200
TZOFFSETTO:+0100
TZNAME:CET
DTSTART:20211031T010000
END:STANDARD
BEGIN:DAYLIGHT
TZOFFSETFROM:+0100
TZOFFSETTO:+0200
TZNAME:CEST
DTSTART:20220327T010000
END:DAYLIGHT
BEGIN:STANDARD
TZOFFSETFROM:+0200
TZOFFSETTO:+0100
TZNAME:CET
DTSTART:20221030T010000
END:STANDARD
BEGIN:DAYLIGHT
TZOFFSETFROM:+0100
TZOFFSETTO:+0200
TZNAME:CEST
DTSTART:20230326T010000
END:DAYLIGHT
BEGIN:STANDARD
TZOFFSETFROM:+0200
TZOFFSETTO:+0100
TZNAME:CET
DTSTART:20231029T010000
END:STANDARD
END:VTIMEZONE
BEGIN:VEVENT
DTSTART;TZID=Europe/Stockholm:20220924T100000
DTEND;TZID=Europe/Stockholm:20220924T120000
DTSTAMP:20260425T003346
CREATED:20220909T140446Z
LAST-MODIFIED:20220909T140446Z
UID:1311-1664013600-1664020800@www.smogen.com
SUMMARY:Visning av Signhild Hällers Smögenbonad
DESCRIPTION:”Smögen av igår”\nVisning av Signhild Hällers bonad  \nVi visar bonaden i Smögens skola \nLördagar 17:e och 24:e september 2022 klockan 10 till 12.\nKristina Grahl och Erling Larsson presenterar konstverket  kl. 10.15 och 11.15.  \nStöd föreningen med ditt medlemskap!\n Välkomna!
URL:https://www.smogen.com/event/visning-av-signhild-hallers-smogenbonad-2/
LOCATION:Smögens skola
CATEGORIES:Hembygdsföreningen,Historia,Konst,Kultur,Utbildande
ATTACH;FMTTYPE=image/jpeg:https://www.smogen.com/wp-content/uploads/2022/09/Bonad-i-lägre-upplösning.jpg
END:VEVENT
END:VCALENDAR