BEGIN:VCALENDAR
VERSION:2.0
PRODID:-//Smögens Öråd - ECPv6.15.11//NONSGML v1.0//EN
CALSCALE:GREGORIAN
METHOD:PUBLISH
X-WR-CALNAME:Smögens Öråd
X-ORIGINAL-URL:https://www.smogen.com
X-WR-CALDESC:Händelser för Smögens Öråd
REFRESH-INTERVAL;VALUE=DURATION:PT1H
X-Robots-Tag:noindex
X-PUBLISHED-TTL:PT1H
BEGIN:VTIMEZONE
TZID:Europe/Stockholm
BEGIN:DAYLIGHT
TZOFFSETFROM:+0100
TZOFFSETTO:+0200
TZNAME:CEST
DTSTART:20230326T010000
END:DAYLIGHT
BEGIN:STANDARD
TZOFFSETFROM:+0200
TZOFFSETTO:+0100
TZNAME:CET
DTSTART:20231029T010000
END:STANDARD
BEGIN:DAYLIGHT
TZOFFSETFROM:+0100
TZOFFSETTO:+0200
TZNAME:CEST
DTSTART:20240331T010000
END:DAYLIGHT
BEGIN:STANDARD
TZOFFSETFROM:+0200
TZOFFSETTO:+0100
TZNAME:CET
DTSTART:20241027T010000
END:STANDARD
BEGIN:DAYLIGHT
TZOFFSETFROM:+0100
TZOFFSETTO:+0200
TZNAME:CEST
DTSTART:20250330T010000
END:DAYLIGHT
BEGIN:STANDARD
TZOFFSETFROM:+0200
TZOFFSETTO:+0100
TZNAME:CET
DTSTART:20251026T010000
END:STANDARD
END:VTIMEZONE
BEGIN:VEVENT
DTSTART;TZID=Europe/Stockholm:20240625T163000
DTEND;TZID=Europe/Stockholm:20240822T183000
DTSTAMP:20260421T131300
CREATED:20240530T102848Z
LAST-MODIFIED:20240530T102848Z
UID:2072-1719333000-1724351400@www.smogen.com
SUMMARY:Besök våra museer i sommar!
DESCRIPTION:Sommaren 2024 gäller följande öppettider i Bildarkiv\, Sjöbodsmuseet och Fiskarstugan:\nTisdagar och torsdagar kl 16.30 – 18.30. (Sommartiderna avser tiden 25 juni – 22 augusti) \nInformation om museerna hittar du på respektive flik här på hemsidan. \nVarmt välkommen till våra museer!
URL:https://www.smogen.com/event/besok-vara-museer-i-sommar/
CATEGORIES:Hembygdsföreningen,Historia,Kultur,Utbildande
ATTACH;FMTTYPE=image/jpeg:https://www.smogen.com/wp-content/uploads/2022/06/Museet-1.jpg
END:VEVENT
END:VCALENDAR