BEGIN:VCALENDAR
VERSION:2.0
PRODID:-//Smögens Öråd - ECPv6.15.11//NONSGML v1.0//EN
CALSCALE:GREGORIAN
METHOD:PUBLISH
X-ORIGINAL-URL:https://www.smogen.com
X-WR-CALDESC:Händelser för Smögens Öråd
REFRESH-INTERVAL;VALUE=DURATION:PT1H
X-Robots-Tag:noindex
X-PUBLISHED-TTL:PT1H
BEGIN:VTIMEZONE
TZID:Europe/Stockholm
BEGIN:DAYLIGHT
TZOFFSETFROM:+0100
TZOFFSETTO:+0200
TZNAME:CEST
DTSTART:20240331T010000
END:DAYLIGHT
BEGIN:STANDARD
TZOFFSETFROM:+0200
TZOFFSETTO:+0100
TZNAME:CET
DTSTART:20241027T010000
END:STANDARD
BEGIN:DAYLIGHT
TZOFFSETFROM:+0100
TZOFFSETTO:+0200
TZNAME:CEST
DTSTART:20250330T010000
END:DAYLIGHT
BEGIN:STANDARD
TZOFFSETFROM:+0200
TZOFFSETTO:+0100
TZNAME:CET
DTSTART:20251026T010000
END:STANDARD
BEGIN:DAYLIGHT
TZOFFSETFROM:+0100
TZOFFSETTO:+0200
TZNAME:CEST
DTSTART:20260329T010000
END:DAYLIGHT
BEGIN:STANDARD
TZOFFSETFROM:+0200
TZOFFSETTO:+0100
TZNAME:CET
DTSTART:20261025T010000
END:STANDARD
END:VTIMEZONE
BEGIN:VEVENT
DTSTART;TZID=Europe/Stockholm:20250323T160000
DTEND;TZID=Europe/Stockholm:20250323T180000
DTSTAMP:20260420T175527
CREATED:20250304T135626Z
LAST-MODIFIED:20250304T135626Z
UID:2175-1742745600-1742752800@www.smogen.com
SUMMARY:Årsmöte Smögens hembygdsförening
DESCRIPTION:Sedvanliga mötesförhandlingar. Efter årsmötet lyssnar vi på berättelser nedskrivna av Folke Samuelsson. Kaffe serveras! \nStöd föreningen med ditt medlemskap – och varmt välkommen till årsmöte i Smögens församlingshem.
URL:https://www.smogen.com/event/arsmote-smogens-hembygdsforening/
LOCATION:Församlingshemmet\, Smögen\, Kyrkogatan 16\, Smögen\, 45651\, Sverige
CATEGORIES:Aktivitet,Årsmöte,Hembygdsföreningen,Historia,Kaffe,Kultur,Möte,Socialt
ATTACH;FMTTYPE=image/jpeg:https://www.smogen.com/wp-content/uploads/2022/02/kaffekopp-bulle.jpg
END:VEVENT
END:VCALENDAR