BEGIN:VCALENDAR
VERSION:2.0
PRODID:-//Smögens Öråd - ECPv6.15.11//NONSGML v1.0//EN
CALSCALE:GREGORIAN
METHOD:PUBLISH
X-WR-CALNAME:Smögens Öråd
X-ORIGINAL-URL:https://www.smogen.com
X-WR-CALDESC:Händelser för Smögens Öråd
REFRESH-INTERVAL;VALUE=DURATION:PT1H
X-Robots-Tag:noindex
X-PUBLISHED-TTL:PT1H
BEGIN:VTIMEZONE
TZID:Europe/Stockholm
BEGIN:DAYLIGHT
TZOFFSETFROM:+0100
TZOFFSETTO:+0200
TZNAME:CEST
DTSTART:20220327T010000
END:DAYLIGHT
BEGIN:STANDARD
TZOFFSETFROM:+0200
TZOFFSETTO:+0100
TZNAME:CET
DTSTART:20221030T010000
END:STANDARD
BEGIN:DAYLIGHT
TZOFFSETFROM:+0100
TZOFFSETTO:+0200
TZNAME:CEST
DTSTART:20230326T010000
END:DAYLIGHT
BEGIN:STANDARD
TZOFFSETFROM:+0200
TZOFFSETTO:+0100
TZNAME:CET
DTSTART:20231029T010000
END:STANDARD
BEGIN:DAYLIGHT
TZOFFSETFROM:+0100
TZOFFSETTO:+0200
TZNAME:CEST
DTSTART:20240331T010000
END:DAYLIGHT
BEGIN:STANDARD
TZOFFSETFROM:+0200
TZOFFSETTO:+0100
TZNAME:CET
DTSTART:20241027T010000
END:STANDARD
END:VTIMEZONE
BEGIN:VEVENT
DTSTART;TZID=Europe/Stockholm:20230704T163000
DTEND;TZID=Europe/Stockholm:20230704T183000
DTSTAMP:20260424T112557
CREATED:20220711T093238Z
LAST-MODIFIED:20230618T150853Z
UID:1082-1688488200-1688495400@www.smogen.com
SUMMARY:Museerna och Bildarkivet
DESCRIPTION:Fiskarstugan\, Sjöbodsmuseet och Bildarkivet håller öppet tisdagar och torsdagar kl 16.30–18.30. Läs mer under hembygdsföreningen och dess sidor.
URL:https://www.smogen.com/event/museerna-och-bildarkivet-3/
LOCATION:https://goo.gl/maps/zyqdASug22hzMNu4A\, Kilevägen 3\, Smögen
CATEGORIES:Hembygdsföreningen,Historia,Kultur
ATTACH;FMTTYPE=image/jpeg:https://www.smogen.com/wp-content/uploads/2022/06/Museet-1.jpg
END:VEVENT
BEGIN:VEVENT
DTSTART;TZID=Europe/Stockholm:20230704T200000
DTEND;TZID=Europe/Stockholm:20230704T213000
DTSTAMP:20260424T112557
CREATED:20230618T140342Z
LAST-MODIFIED:20230618T140342Z
UID:1467-1688500800-1688506200@www.smogen.com
SUMMARY:Musik i sommarkväll
DESCRIPTION:”Sol\, vind och vatten”\, Bengt Magnusson\, Suzanne Rangstedt\, Maria Tuimala-Sörensson\, André Vajking\, Agnetha Hellgren
URL:https://www.smogen.com/event/musik-i-sommarkvall/
LOCATION:Smögens kyrka
CATEGORIES:Kultur,Kyrkligt
ATTACH;FMTTYPE=image/jpeg:https://www.smogen.com/wp-content/uploads/2023/06/IMG_1543.jpg
END:VEVENT
END:VCALENDAR