BEGIN:VCALENDAR
VERSION:2.0
PRODID:-//Smögens Öråd - ECPv6.15.11//NONSGML v1.0//EN
CALSCALE:GREGORIAN
METHOD:PUBLISH
X-ORIGINAL-URL:https://www.smogen.com
X-WR-CALDESC:Händelser för Smögens Öråd
REFRESH-INTERVAL;VALUE=DURATION:PT1H
X-Robots-Tag:noindex
X-PUBLISHED-TTL:PT1H
BEGIN:VTIMEZONE
TZID:Europe/Stockholm
BEGIN:DAYLIGHT
TZOFFSETFROM:+0100
TZOFFSETTO:+0200
TZNAME:CEST
DTSTART:20240331T010000
END:DAYLIGHT
BEGIN:STANDARD
TZOFFSETFROM:+0200
TZOFFSETTO:+0100
TZNAME:CET
DTSTART:20241027T010000
END:STANDARD
BEGIN:DAYLIGHT
TZOFFSETFROM:+0100
TZOFFSETTO:+0200
TZNAME:CEST
DTSTART:20250330T010000
END:DAYLIGHT
BEGIN:STANDARD
TZOFFSETFROM:+0200
TZOFFSETTO:+0100
TZNAME:CET
DTSTART:20251026T010000
END:STANDARD
BEGIN:DAYLIGHT
TZOFFSETFROM:+0100
TZOFFSETTO:+0200
TZNAME:CEST
DTSTART:20260329T010000
END:DAYLIGHT
BEGIN:STANDARD
TZOFFSETFROM:+0200
TZOFFSETTO:+0100
TZNAME:CET
DTSTART:20261025T010000
END:STANDARD
END:VTIMEZONE
BEGIN:VEVENT
DTSTART;TZID=Europe/Stockholm:20250701T110000
DTEND;TZID=Europe/Stockholm:20250817T160000
DTSTAMP:20260420T074623
CREATED:20250709T134127Z
LAST-MODIFIED:20250709T134336Z
UID:2328-1751367600-1755446400@www.smogen.com
SUMMARY:Konstutställning på Hållö
DESCRIPTION:Skisser och akvareller av Malin Engström. \nKom och besök oss i Fyrhuset på Hållö i sommar\, och se den unika utställningen av Malin Engström (1897-1967). Malin var dotter till Albert Engström och under några år i ungdomen förlovad med Evert Taube. Förlovningen bröts och ringarna kastades i vattnet från Smögenbryggan där de förmodligen fortfarande finns.
URL:https://www.smogen.com/event/konstutstallning-pa-hallo/
CATEGORIES:Historia,Konst,Kultur,Natur
ATTACH;FMTTYPE=image/jpeg:https://www.smogen.com/wp-content/uploads/2025/07/MalinEngstrom-head.jpg
END:VEVENT
END:VCALENDAR