BEGIN:VCALENDAR
VERSION:2.0
PRODID:-//Smögens Öråd - ECPv6.15.11//NONSGML v1.0//EN
CALSCALE:GREGORIAN
METHOD:PUBLISH
X-WR-CALNAME:Smögens Öråd
X-ORIGINAL-URL:https://www.smogen.com
X-WR-CALDESC:Händelser för Smögens Öråd
REFRESH-INTERVAL;VALUE=DURATION:PT1H
X-Robots-Tag:noindex
X-PUBLISHED-TTL:PT1H
BEGIN:VTIMEZONE
TZID:Europe/Stockholm
BEGIN:DAYLIGHT
TZOFFSETFROM:+0100
TZOFFSETTO:+0200
TZNAME:CEST
DTSTART:20250330T010000
END:DAYLIGHT
BEGIN:STANDARD
TZOFFSETFROM:+0200
TZOFFSETTO:+0100
TZNAME:CET
DTSTART:20251026T010000
END:STANDARD
BEGIN:DAYLIGHT
TZOFFSETFROM:+0100
TZOFFSETTO:+0200
TZNAME:CEST
DTSTART:20260329T010000
END:DAYLIGHT
BEGIN:STANDARD
TZOFFSETFROM:+0200
TZOFFSETTO:+0100
TZNAME:CET
DTSTART:20261025T010000
END:STANDARD
BEGIN:DAYLIGHT
TZOFFSETFROM:+0100
TZOFFSETTO:+0200
TZNAME:CEST
DTSTART:20270328T010000
END:DAYLIGHT
BEGIN:STANDARD
TZOFFSETFROM:+0200
TZOFFSETTO:+0100
TZNAME:CET
DTSTART:20271031T010000
END:STANDARD
END:VTIMEZONE
BEGIN:VEVENT
DTSTART;TZID=Europe/Stockholm:20260530T130000
DTEND;TZID=Europe/Stockholm:20260530T160000
DTSTAMP:20260419T223101
CREATED:20260305T104942Z
LAST-MODIFIED:20260305T104942Z
UID:2531-1780146000-1780156800@www.smogen.com
SUMMARY:Öppet i Bildarkivet
DESCRIPTION:Bildarkivet håller öppet på lördagar i jämna veckor t.o.m. 30 maj kl. 13-16 \nI Bildarkivets register finns ca 12\,000 bilder. Dessutom har vi drygt 4\,000 personakter och ett släktregister som innehåller ca 36\,000 personer med anknytning till vår bygd. Vi skannar bilder från bygden och lägger in i vårt digra bildarkiv. Mycket av arbetet går åt till att identifiera personer\, föremål och händelser på bilderna. \nHälsa gärna på och se hur vi arbetar. Du hittar Bildarkivet i Kilen vid Smögenbryggan. Välkommen! \nDu kan följa oss på Facebook\, vi finns där som ”Smögens Hembygdsförening & Bildarkiv”.
URL:https://www.smogen.com/event/oppet-i-bildarkivet-4-3-4/
LOCATION:Bildarkivet
CATEGORIES:Aktivitet,Hembygdsföreningen,Historia,Kultur,Möte,Utbildande
ATTACH;FMTTYPE=image/jpeg:https://www.smogen.com/wp-content/uploads/2026/03/Bildarkivet.jpg
END:VEVENT
END:VCALENDAR