BEGIN:VCALENDAR
VERSION:2.0
PRODID:-//Smögens Öråd - ECPv6.15.11//NONSGML v1.0//EN
CALSCALE:GREGORIAN
METHOD:PUBLISH
X-ORIGINAL-URL:https://www.smogen.com
X-WR-CALDESC:Händelser för Smögens Öråd
REFRESH-INTERVAL;VALUE=DURATION:PT1H
X-Robots-Tag:noindex
X-PUBLISHED-TTL:PT1H
BEGIN:VTIMEZONE
TZID:Europe/Stockholm
BEGIN:DAYLIGHT
TZOFFSETFROM:+0100
TZOFFSETTO:+0200
TZNAME:CEST
DTSTART:20220327T010000
END:DAYLIGHT
BEGIN:STANDARD
TZOFFSETFROM:+0200
TZOFFSETTO:+0100
TZNAME:CET
DTSTART:20221030T010000
END:STANDARD
BEGIN:DAYLIGHT
TZOFFSETFROM:+0100
TZOFFSETTO:+0200
TZNAME:CEST
DTSTART:20230326T010000
END:DAYLIGHT
BEGIN:STANDARD
TZOFFSETFROM:+0200
TZOFFSETTO:+0100
TZNAME:CET
DTSTART:20231029T010000
END:STANDARD
BEGIN:DAYLIGHT
TZOFFSETFROM:+0100
TZOFFSETTO:+0200
TZNAME:CEST
DTSTART:20240331T010000
END:DAYLIGHT
BEGIN:STANDARD
TZOFFSETFROM:+0200
TZOFFSETTO:+0100
TZNAME:CET
DTSTART:20241027T010000
END:STANDARD
END:VTIMEZONE
BEGIN:VEVENT
DTSTART;TZID=Europe/Stockholm:20230625T100000
DTEND;TZID=Europe/Stockholm:20230625T113000
DTSTAMP:20260423T224022
CREATED:20230618T135013Z
LAST-MODIFIED:20230618T140611Z
UID:1461-1687687200-1687692600@www.smogen.com
SUMMARY:Friluftsgudstjänst
DESCRIPTION:I Badhusparken. Medtag kaffekorg. Predikan: Göran Olsson.
URL:https://www.smogen.com/event/friluftsgudstjanst/
LOCATION:Badhusparken\, Makrillgatan\, Smögen\, 456 51
CATEGORIES:Kaffe,Möte,Socialt
ATTACH;FMTTYPE=image/jpeg:https://www.smogen.com/wp-content/uploads/2023/06/forsamling-lek-utomhus-gungar-2048x1365-1.jpg
END:VEVENT
END:VCALENDAR