BEGIN:VCALENDAR
VERSION:2.0
PRODID:-//Smögens Öråd - ECPv6.15.11//NONSGML v1.0//EN
CALSCALE:GREGORIAN
METHOD:PUBLISH
X-ORIGINAL-URL:https://www.smogen.com
X-WR-CALDESC:Händelser för Smögens Öråd
REFRESH-INTERVAL;VALUE=DURATION:PT1H
X-Robots-Tag:noindex
X-PUBLISHED-TTL:PT1H
BEGIN:VTIMEZONE
TZID:Europe/Stockholm
BEGIN:DAYLIGHT
TZOFFSETFROM:+0100
TZOFFSETTO:+0200
TZNAME:CEST
DTSTART:20220327T010000
END:DAYLIGHT
BEGIN:STANDARD
TZOFFSETFROM:+0200
TZOFFSETTO:+0100
TZNAME:CET
DTSTART:20221030T010000
END:STANDARD
BEGIN:DAYLIGHT
TZOFFSETFROM:+0100
TZOFFSETTO:+0200
TZNAME:CEST
DTSTART:20230326T010000
END:DAYLIGHT
BEGIN:STANDARD
TZOFFSETFROM:+0200
TZOFFSETTO:+0100
TZNAME:CET
DTSTART:20231029T010000
END:STANDARD
BEGIN:DAYLIGHT
TZOFFSETFROM:+0100
TZOFFSETTO:+0200
TZNAME:CEST
DTSTART:20240331T010000
END:DAYLIGHT
BEGIN:STANDARD
TZOFFSETFROM:+0200
TZOFFSETTO:+0100
TZNAME:CET
DTSTART:20241027T010000
END:STANDARD
END:VTIMEZONE
BEGIN:VEVENT
DTSTART;TZID=Europe/Stockholm:20230326T170000
DTEND;TZID=Europe/Stockholm:20230326T190000
DTSTAMP:20260424T055018
CREATED:20230310T161758Z
LAST-MODIFIED:20230310T161758Z
UID:1352-1679850000-1679857200@www.smogen.com
SUMMARY:Årsmöte för Smögens hembygdsförening
DESCRIPTION:Sedvanliga mötesförhandlingar\nEfter årsmötet ges information om planerna för Smögens församlingshem.\nKaffeservering\nStöd föreningen med ditt medlemskap! \nVarmt välkommen!
URL:https://www.smogen.com/event/arsmote-for-smogens-hembygdsforening/
LOCATION:Församlingshemmet\, Smögen\, Kyrkogatan 16\, Smögen\, 45651\, Sverige
CATEGORIES:Hembygdsföreningen,Kaffe,Möte
ATTACH;FMTTYPE=image/jpeg:https://www.smogen.com/wp-content/uploads/2022/07/fran-lotsutkiken-nutid.jpg
END:VEVENT
END:VCALENDAR