BEGIN:VCALENDAR
VERSION:2.0
PRODID:-//Smögens Öråd - ECPv6.15.11//NONSGML v1.0//EN
CALSCALE:GREGORIAN
METHOD:PUBLISH
X-ORIGINAL-URL:https://www.smogen.com
X-WR-CALDESC:Händelser för Smögens Öråd
REFRESH-INTERVAL;VALUE=DURATION:PT1H
X-Robots-Tag:noindex
X-PUBLISHED-TTL:PT1H
BEGIN:VTIMEZONE
TZID:Europe/Stockholm
BEGIN:DAYLIGHT
TZOFFSETFROM:+0100
TZOFFSETTO:+0200
TZNAME:CEST
DTSTART:20240331T010000
END:DAYLIGHT
BEGIN:STANDARD
TZOFFSETFROM:+0200
TZOFFSETTO:+0100
TZNAME:CET
DTSTART:20241027T010000
END:STANDARD
BEGIN:DAYLIGHT
TZOFFSETFROM:+0100
TZOFFSETTO:+0200
TZNAME:CEST
DTSTART:20250330T010000
END:DAYLIGHT
BEGIN:STANDARD
TZOFFSETFROM:+0200
TZOFFSETTO:+0100
TZNAME:CET
DTSTART:20251026T010000
END:STANDARD
BEGIN:DAYLIGHT
TZOFFSETFROM:+0100
TZOFFSETTO:+0200
TZNAME:CEST
DTSTART:20260329T010000
END:DAYLIGHT
BEGIN:STANDARD
TZOFFSETFROM:+0200
TZOFFSETTO:+0100
TZNAME:CET
DTSTART:20261025T010000
END:STANDARD
END:VTIMEZONE
BEGIN:VEVENT
DTSTART;TZID=Europe/Stockholm:20250701T120000
DTEND;TZID=Europe/Stockholm:20250810T160000
DTSTAMP:20260421T074904
CREATED:20250709T131016Z
LAST-MODIFIED:20250709T131016Z
UID:2302-1751371200-1754841600@www.smogen.com
SUMMARY:Loppis i Smögengården
DESCRIPTION:Smögens loppis håller öppet dagligen: Mån-fre 12-18\, lör-sön 10-16.
URL:https://www.smogen.com/event/loppis-i-smogengarden/
CATEGORIES:Loppmarknad,Socialt
ATTACH;FMTTYPE=image/jpeg:https://www.smogen.com/wp-content/uploads/2022/02/Smogen-loppis-vas-porslin-ljusstakar.jpg
END:VEVENT
BEGIN:VEVENT
DTSTART;TZID=Europe/Stockholm:20250804T160000
DTEND;TZID=Europe/Stockholm:20250804T180000
DTSTAMP:20260421T074904
CREATED:20250709T132550Z
LAST-MODIFIED:20250709T132550Z
UID:2310-1754323200-1754330400@www.smogen.com
SUMMARY:Boule i Badhusparken
DESCRIPTION:PRO på Smögen anordnar Boule i Badhusparken\, måndagar och torsdagar kl 16.00-18.00. Tiderna kan komma att ändras beroende av väder.
URL:https://www.smogen.com/event/boule-i-badhusparken-2025-08-04/
LOCATION:Bildarkivet
CATEGORIES:Socialt,Sport
ATTACH;FMTTYPE=image/jpeg:https://www.smogen.com/wp-content/uploads/2022/07/Boule-badhusparken.jpg
END:VEVENT
BEGIN:VEVENT
DTSTART;TZID=Europe/Stockholm:20250807T160000
DTEND;TZID=Europe/Stockholm:20250807T180000
DTSTAMP:20260421T074904
CREATED:20250709T132804Z
LAST-MODIFIED:20250709T132804Z
UID:2311-1754582400-1754589600@www.smogen.com
SUMMARY:Boule i Badhusparken
DESCRIPTION:PRO på Smögen anordnar Boule i Badhusparken\, måndagar och torsdagar kl 16.00-18.00. Tiderna kan komma att ändras beroende av väder.
URL:https://www.smogen.com/event/boule-i-badhusparken-2025-08-07/
LOCATION:Badhusparken\, Makrillgatan\, Smögen\, 456 51
CATEGORIES:Socialt,Sport
ATTACH;FMTTYPE=image/jpeg:https://www.smogen.com/wp-content/uploads/2022/07/Boule-badhusparken.jpg
END:VEVENT
BEGIN:VEVENT
DTSTART;TZID=Europe/Stockholm:20250811T160000
DTEND;TZID=Europe/Stockholm:20250811T180000
DTSTAMP:20260421T074904
CREATED:20250709T132917Z
LAST-MODIFIED:20250709T132917Z
UID:2312-1754928000-1754935200@www.smogen.com
SUMMARY:Boule i Badhusparken
DESCRIPTION:PRO på Smögen anordnar Boule i Badhusparken\, måndagar och torsdagar kl 16.00-18.00. Tiderna kan komma att ändras beroende av väder.
URL:https://www.smogen.com/event/boule-i-badhusparken-2025-08-11/
LOCATION:Badhusparken\, Makrillgatan\, Smögen\, 456 51
CATEGORIES:Socialt,Sport
ATTACH;FMTTYPE=image/jpeg:https://www.smogen.com/wp-content/uploads/2022/07/Boule-badhusparken.jpg
END:VEVENT
BEGIN:VEVENT
DTSTART;TZID=Europe/Stockholm:20250814T160000
DTEND;TZID=Europe/Stockholm:20250814T180000
DTSTAMP:20260421T074904
CREATED:20250709T133025Z
LAST-MODIFIED:20250709T133025Z
UID:2313-1755187200-1755194400@www.smogen.com
SUMMARY:Boule i Badhusparken
DESCRIPTION:PRO på Smögen anordnar Boule i Badhusparken\, måndagar och torsdagar kl 16.00-18.00. Tiderna kan komma att ändras beroende av väder.
URL:https://www.smogen.com/event/boule-i-badhusparken-2025-08-14/
LOCATION:Badhusparken\, Makrillgatan\, Smögen\, 456 51
CATEGORIES:Socialt,Sport
ATTACH;FMTTYPE=image/jpeg:https://www.smogen.com/wp-content/uploads/2022/07/Boule-badhusparken.jpg
END:VEVENT
BEGIN:VEVENT
DTSTART;TZID=Europe/Stockholm:20250818T160000
DTEND;TZID=Europe/Stockholm:20250818T180000
DTSTAMP:20260421T074904
CREATED:20250709T133146Z
LAST-MODIFIED:20250709T133146Z
UID:2314-1755532800-1755540000@www.smogen.com
SUMMARY:Boule i Badhusparken
DESCRIPTION:PRO på Smögen anordnar Boule i Badhusparken\, måndagar och torsdagar kl 16.00-18.00. Tiderna kan komma att ändras beroende av väder.
URL:https://www.smogen.com/event/boule-i-badhusparken-2025-08-18/
LOCATION:Badhusparken\, Makrillgatan\, Smögen\, 456 51
CATEGORIES:Socialt,Sport
ATTACH;FMTTYPE=image/jpeg:https://www.smogen.com/wp-content/uploads/2022/07/Boule-badhusparken.jpg
END:VEVENT
BEGIN:VEVENT
DTSTART;TZID=Europe/Stockholm:20250821T160000
DTEND;TZID=Europe/Stockholm:20250821T180000
DTSTAMP:20260421T074904
CREATED:20250709T133240Z
LAST-MODIFIED:20250709T133240Z
UID:2315-1755792000-1755799200@www.smogen.com
SUMMARY:Boule i Badhusparken
DESCRIPTION:PRO på Smögen anordnar Boule i Badhusparken\, måndagar och torsdagar kl 16.00-18.00. Tiderna kan komma att ändras beroende av väder.
URL:https://www.smogen.com/event/boule-i-badhusparken-2025-08-21/
LOCATION:Badhusparken\, Makrillgatan\, Smögen\, 456 51
CATEGORIES:Socialt,Sport
ATTACH;FMTTYPE=image/jpeg:https://www.smogen.com/wp-content/uploads/2022/07/Boule-badhusparken.jpg
END:VEVENT
END:VCALENDAR