BEGIN:VCALENDAR
VERSION:2.0
PRODID:-//Smögens Öråd - ECPv6.15.11//NONSGML v1.0//EN
CALSCALE:GREGORIAN
METHOD:PUBLISH
X-WR-CALNAME:Smögens Öråd
X-ORIGINAL-URL:https://www.smogen.com
X-WR-CALDESC:Händelser för Smögens Öråd
REFRESH-INTERVAL;VALUE=DURATION:PT1H
X-Robots-Tag:noindex
X-PUBLISHED-TTL:PT1H
BEGIN:VTIMEZONE
TZID:Europe/Stockholm
BEGIN:DAYLIGHT
TZOFFSETFROM:+0100
TZOFFSETTO:+0200
TZNAME:CEST
DTSTART:20240331T010000
END:DAYLIGHT
BEGIN:STANDARD
TZOFFSETFROM:+0200
TZOFFSETTO:+0100
TZNAME:CET
DTSTART:20241027T010000
END:STANDARD
BEGIN:DAYLIGHT
TZOFFSETFROM:+0100
TZOFFSETTO:+0200
TZNAME:CEST
DTSTART:20250330T010000
END:DAYLIGHT
BEGIN:STANDARD
TZOFFSETFROM:+0200
TZOFFSETTO:+0100
TZNAME:CET
DTSTART:20251026T010000
END:STANDARD
BEGIN:DAYLIGHT
TZOFFSETFROM:+0100
TZOFFSETTO:+0200
TZNAME:CEST
DTSTART:20260329T010000
END:DAYLIGHT
BEGIN:STANDARD
TZOFFSETFROM:+0200
TZOFFSETTO:+0100
TZNAME:CET
DTSTART:20261025T010000
END:STANDARD
END:VTIMEZONE
BEGIN:VEVENT
DTSTART;TZID=Europe/Stockholm:20250710T160000
DTEND;TZID=Europe/Stockholm:20250710T180000
DTSTAMP:20260421T151917
CREATED:20230618T150025Z
LAST-MODIFIED:20250709T131501Z
UID:1476-1752163200-1752170400@www.smogen.com
SUMMARY:Boule i Badhusparken
DESCRIPTION:PRO på Smögen anordnar Boule i Badhusparken\, måndagar och torsdagar kl 16.00-18.00. Tiderna kan komma att ändras beroende av väder.
URL:https://www.smogen.com/event/boule-i-badhusparken-2025-07-10/
LOCATION:Badhusparken\, Makrillgatan\, Smögen\, 456 51
CATEGORIES:Socialt,Sport
ATTACH;FMTTYPE=image/jpeg:https://www.smogen.com/wp-content/uploads/2022/07/Boule-badhusparken.jpg
END:VEVENT
BEGIN:VEVENT
DTSTART;TZID=Europe/Stockholm:20250714T160000
DTEND;TZID=Europe/Stockholm:20250714T180000
DTSTAMP:20260421T151917
CREATED:20250709T131731Z
LAST-MODIFIED:20250709T131731Z
UID:2304-1752508800-1752516000@www.smogen.com
SUMMARY:Boule i Badhusparken
DESCRIPTION:PRO på Smögen anordnar Boule i Badhusparken\, måndagar och torsdagar kl 16.00-18.00. Tiderna kan komma att ändras beroende av väder.
URL:https://www.smogen.com/event/boule-i-badhusparken-2025-07-14/
LOCATION:Badhusparken\, Makrillgatan\, Smögen\, 456 51
CATEGORIES:Socialt,Sport
ATTACH;FMTTYPE=image/jpeg:https://www.smogen.com/wp-content/uploads/2022/07/Boule-badhusparken.jpg
END:VEVENT
BEGIN:VEVENT
DTSTART;TZID=Europe/Stockholm:20250717T160000
DTEND;TZID=Europe/Stockholm:20250717T160000
DTSTAMP:20260421T151917
CREATED:20250709T131852Z
LAST-MODIFIED:20250709T131852Z
UID:2309-1752768000-1752768000@www.smogen.com
SUMMARY:Boule i Badhusparken
DESCRIPTION:PRO på Smögen anordnar Boule i Badhusparken\, måndagar och torsdagar kl 16.00-18.00. Tiderna kan komma att ändras beroende av väder.
URL:https://www.smogen.com/event/boule-i-badhusparken-2025-07-17/
LOCATION:Badhusparken\, Makrillgatan\, Smögen\, 456 51
CATEGORIES:Socialt,Sport
ATTACH;FMTTYPE=image/jpeg:https://www.smogen.com/wp-content/uploads/2022/07/Boule-badhusparken.jpg
END:VEVENT
BEGIN:VEVENT
DTSTART;TZID=Europe/Stockholm:20250721T160000
DTEND;TZID=Europe/Stockholm:20250721T160000
DTSTAMP:20260421T151917
CREATED:20250709T132057Z
LAST-MODIFIED:20250709T132057Z
UID:2308-1753113600-1753113600@www.smogen.com
SUMMARY:Boule i Badhusparken
DESCRIPTION:PRO på Smögen anordnar Boule i Badhusparken\, måndagar och torsdagar kl 16.00-18.00. Tiderna kan komma att ändras beroende av väder.
URL:https://www.smogen.com/event/boule-i-badhusparken-2025-07-21/
LOCATION:Badhusparken\, Makrillgatan\, Smögen\, 456 51
CATEGORIES:Socialt,Sport
ATTACH;FMTTYPE=image/jpeg:https://www.smogen.com/wp-content/uploads/2022/07/Boule-badhusparken.jpg
END:VEVENT
BEGIN:VEVENT
DTSTART;TZID=Europe/Stockholm:20250724T160000
DTEND;TZID=Europe/Stockholm:20250724T180000
DTSTAMP:20260421T151917
CREATED:20250709T132201Z
LAST-MODIFIED:20250709T132201Z
UID:2307-1753372800-1753380000@www.smogen.com
SUMMARY:Boule i Badhusparken
DESCRIPTION:PRO på Smögen anordnar Boule i Badhusparken\, måndagar och torsdagar kl 16.00-18.00. Tiderna kan komma att ändras beroende av väder.
URL:https://www.smogen.com/event/boule-i-badhusparken-2025-07-24/
LOCATION:Badhusparken\, Makrillgatan\, Smögen\, 456 51
CATEGORIES:Socialt,Sport
ATTACH;FMTTYPE=image/jpeg:https://www.smogen.com/wp-content/uploads/2022/07/Boule-badhusparken.jpg
END:VEVENT
BEGIN:VEVENT
DTSTART;TZID=Europe/Stockholm:20250728T160000
DTEND;TZID=Europe/Stockholm:20250728T180000
DTSTAMP:20260421T151917
CREATED:20250709T132255Z
LAST-MODIFIED:20250709T132255Z
UID:2306-1753718400-1753725600@www.smogen.com
SUMMARY:Boule i Badhusparken
DESCRIPTION:PRO på Smögen anordnar Boule i Badhusparken\, måndagar och torsdagar kl 16.00-18.00. Tiderna kan komma att ändras beroende av väder.
URL:https://www.smogen.com/event/boule-i-badhusparken-2025-07-28/
LOCATION:Badhusparken\, Makrillgatan\, Smögen\, 456 51
CATEGORIES:Socialt,Sport
ATTACH;FMTTYPE=image/jpeg:https://www.smogen.com/wp-content/uploads/2022/07/Boule-badhusparken.jpg
END:VEVENT
BEGIN:VEVENT
DTSTART;TZID=Europe/Stockholm:20250731T160000
DTEND;TZID=Europe/Stockholm:20250731T180000
DTSTAMP:20260421T151917
CREATED:20250709T132430Z
LAST-MODIFIED:20250709T132430Z
UID:2305-1753977600-1753984800@www.smogen.com
SUMMARY:Boule i Badhusparken
DESCRIPTION:PRO på Smögen anordnar Boule i Badhusparken\, måndagar och torsdagar kl 16.00-18.00. Tiderna kan komma att ändras beroende av väder.
URL:https://www.smogen.com/event/boule-i-badhusparken-2025-07-31/
LOCATION:Badhusparken\, Makrillgatan\, Smögen\, 456 51
CATEGORIES:Socialt,Sport
ATTACH;FMTTYPE=image/jpeg:https://www.smogen.com/wp-content/uploads/2022/07/Boule-badhusparken.jpg
END:VEVENT
END:VCALENDAR