BEGIN:VCALENDAR
VERSION:2.0
PRODID:-//Smögens Öråd - ECPv6.15.11//NONSGML v1.0//EN
CALSCALE:GREGORIAN
METHOD:PUBLISH
X-WR-CALNAME:Smögens Öråd
X-ORIGINAL-URL:https://www.smogen.com
X-WR-CALDESC:Händelser för Smögens Öråd
REFRESH-INTERVAL;VALUE=DURATION:PT1H
X-Robots-Tag:noindex
X-PUBLISHED-TTL:PT1H
BEGIN:VTIMEZONE
TZID:Europe/Stockholm
BEGIN:DAYLIGHT
TZOFFSETFROM:+0100
TZOFFSETTO:+0200
TZNAME:CEST
DTSTART:20220327T010000
END:DAYLIGHT
BEGIN:STANDARD
TZOFFSETFROM:+0200
TZOFFSETTO:+0100
TZNAME:CET
DTSTART:20221030T010000
END:STANDARD
BEGIN:DAYLIGHT
TZOFFSETFROM:+0100
TZOFFSETTO:+0200
TZNAME:CEST
DTSTART:20230326T010000
END:DAYLIGHT
BEGIN:STANDARD
TZOFFSETFROM:+0200
TZOFFSETTO:+0100
TZNAME:CET
DTSTART:20231029T010000
END:STANDARD
BEGIN:DAYLIGHT
TZOFFSETFROM:+0100
TZOFFSETTO:+0200
TZNAME:CEST
DTSTART:20240331T010000
END:DAYLIGHT
BEGIN:STANDARD
TZOFFSETFROM:+0200
TZOFFSETTO:+0100
TZNAME:CET
DTSTART:20241027T010000
END:STANDARD
END:VTIMEZONE
BEGIN:VEVENT
DTSTART;TZID=Europe/Stockholm:20230903T080000
DTEND;TZID=Europe/Stockholm:20230910T170000
DTSTAMP:20260423T180237
CREATED:20230714T090448Z
LAST-MODIFIED:20230904T120058Z
UID:1939-1693728000-1694365200@www.smogen.com
SUMMARY:Island of Light - Infopoint
DESCRIPTION:Biljettförsäljning och information. Festivalen pågår 7–10 september men Spruthuset är öppet från 3 september.
URL:https://www.smogen.com/event/island-of-light/
LOCATION:Spruthuset
CATEGORIES:Konst,Kultur,Socialt,Utbildande
ATTACH;FMTTYPE=image/jpeg:https://www.smogen.com/wp-content/uploads/2022/07/Bild-1-Island-of-Light-2019.jpg
END:VEVENT
BEGIN:VEVENT
DTSTART;TZID=Europe/Stockholm:20230908T140000
DTEND;TZID=Europe/Stockholm:20230908T170000
DTSTAMP:20260423T180237
CREATED:20230904T115020Z
LAST-MODIFIED:20230904T115844Z
UID:1965-1694181600-1694192400@www.smogen.com
SUMMARY:Öppet hus i Bildarkivet
DESCRIPTION:Öppet under ljuskonstfestivalen Island of Light: 8–9 september\, kl 14–17.
URL:https://www.smogen.com/event/oppet-hus-i-bildarkivet/
LOCATION:Bildarkivet
CATEGORIES:Hembygdsföreningen,Historia,Kultur,Utbildande
ATTACH;FMTTYPE=image/jpeg:https://www.smogen.com/wp-content/uploads/2023/06/Grindholmen-1905.jpg
END:VEVENT
BEGIN:VEVENT
DTSTART;TZID=Europe/Stockholm:20230909T130000
DTEND;TZID=Europe/Stockholm:20230909T150000
DTSTAMP:20260423T180237
CREATED:20230904T120448Z
LAST-MODIFIED:20230904T120510Z
UID:1976-1694264400-1694271600@www.smogen.com
SUMMARY:Öppet hus i Lotsutkiken
DESCRIPTION:Välkommen att besöka ett av Smögens mest välkända landmärken – Lotsutkiken. Ingen föranmälan behövs.
URL:https://www.smogen.com/event/oppet-hus-i-lotsutkiken-3/
LOCATION:Lotsutkiken
CATEGORIES:Hembygdsföreningen,Historia,Kultur,Utbildande
ATTACH;FMTTYPE=image/jpeg:https://www.smogen.com/wp-content/uploads/2022/02/Lotsutkiken-lo.jpg
END:VEVENT
BEGIN:VEVENT
DTSTART;TZID=Europe/Stockholm:20230909T140000
DTEND;TZID=Europe/Stockholm:20230909T170000
DTSTAMP:20260423T180237
CREATED:20230904T115804Z
LAST-MODIFIED:20230904T115922Z
UID:1972-1694268000-1694278800@www.smogen.com
SUMMARY:Öppet hus i Bildarkivet
DESCRIPTION:Öppet under ljuskonstfestivalen Island of Light: 8–9 september\, kl 14–17.
URL:https://www.smogen.com/event/oppet-hus-i-bildarkivet-2/
LOCATION:Bildarkivet
CATEGORIES:Hembygdsföreningen,Historia,Kultur,Utbildande
ATTACH;FMTTYPE=image/jpeg:https://www.smogen.com/wp-content/uploads/2023/06/Grindholmen-1905.jpg
END:VEVENT
BEGIN:VEVENT
DTSTART;TZID=Europe/Stockholm:20230909T150000
DTEND;TZID=Europe/Stockholm:20230909T170000
DTSTAMP:20260423T180237
CREATED:20230904T120835Z
LAST-MODIFIED:20230904T154628Z
UID:1979-1694271600-1694278800@www.smogen.com
SUMMARY:Guidad historisk vandring
DESCRIPTION:Följ med på en vandring genom Smögens äldre delar\, där vi får ta del av historien om ön av Kristin Bock Grahl. Samling vid Spruthuset.
URL:https://www.smogen.com/event/guidad-historisk-vandring/
LOCATION:Spruthuset
CATEGORIES:Hembygdsföreningen,Historia,Kultur,Utbildande
ATTACH;FMTTYPE=image/jpeg:https://www.smogen.com/wp-content/uploads/2022/06/Ringareskar-2.jpg
END:VEVENT
END:VCALENDAR