BEGIN:VCALENDAR
VERSION:2.0
PRODID:-//Smögens Öråd - ECPv6.15.11//NONSGML v1.0//EN
CALSCALE:GREGORIAN
METHOD:PUBLISH
X-ORIGINAL-URL:https://www.smogen.com
X-WR-CALDESC:Händelser för Smögens Öråd
REFRESH-INTERVAL;VALUE=DURATION:PT1H
X-Robots-Tag:noindex
X-PUBLISHED-TTL:PT1H
BEGIN:VTIMEZONE
TZID:Europe/Stockholm
BEGIN:DAYLIGHT
TZOFFSETFROM:+0100
TZOFFSETTO:+0200
TZNAME:CEST
DTSTART:20240331T010000
END:DAYLIGHT
BEGIN:STANDARD
TZOFFSETFROM:+0200
TZOFFSETTO:+0100
TZNAME:CET
DTSTART:20241027T010000
END:STANDARD
BEGIN:DAYLIGHT
TZOFFSETFROM:+0100
TZOFFSETTO:+0200
TZNAME:CEST
DTSTART:20250330T010000
END:DAYLIGHT
BEGIN:STANDARD
TZOFFSETFROM:+0200
TZOFFSETTO:+0100
TZNAME:CET
DTSTART:20251026T010000
END:STANDARD
BEGIN:DAYLIGHT
TZOFFSETFROM:+0100
TZOFFSETTO:+0200
TZNAME:CEST
DTSTART:20260329T010000
END:DAYLIGHT
BEGIN:STANDARD
TZOFFSETFROM:+0200
TZOFFSETTO:+0100
TZNAME:CET
DTSTART:20261025T010000
END:STANDARD
END:VTIMEZONE
BEGIN:VEVENT
DTSTART;TZID=Europe/Stockholm:20250702T100000
DTEND;TZID=Europe/Stockholm:20250702T120000
DTSTAMP:20260420T095739
CREATED:20250611T211651Z
LAST-MODIFIED:20250611T212403Z
UID:2232-1751450400-1751457600@www.smogen.com
SUMMARY:Guidad tur på Smögen
DESCRIPTION:med Lars Bredin \nOnsdag 2 juli kl. 10.00\nSamling vid Spruthuset på torget \nAvgift 100 kr
URL:https://www.smogen.com/event/guidad-tur-pa-smogen-3/
LOCATION:Spruthuset
CATEGORIES:Aktivitet,Hembygdsföreningen,Historia,Kultur,Möte,Socialt,Utbildande
ATTACH;FMTTYPE=image/jpeg:https://www.smogen.com/wp-content/uploads/2022/02/IMG_8388.jpg
END:VEVENT
BEGIN:VEVENT
DTSTART;TZID=Europe/Stockholm:20250710T163000
DTEND;TZID=Europe/Stockholm:20250710T183000
DTSTAMP:20260420T095739
CREATED:20230618T154152Z
LAST-MODIFIED:20250709T124547Z
UID:1512-1752165000-1752172200@www.smogen.com
SUMMARY:Museerna och Bildarkivet
DESCRIPTION:Fiskarstugan\, Sjöbodsmuseet och Bildarkivet håller öppet tisdagar och torsdagar kl 16.30–18.30. Läs mer under hembygdsföreningen och dess sidor.
URL:https://www.smogen.com/event/museerna-och-bildarkivet-0810/
CATEGORIES:Hembygdsföreningen,Historia,Kultur,Utbildande
ATTACH;FMTTYPE=image/jpeg:https://www.smogen.com/wp-content/uploads/2022/06/Museet-1.jpg
END:VEVENT
BEGIN:VEVENT
DTSTART;TZID=Europe/Stockholm:20250715T163000
DTEND;TZID=Europe/Stockholm:20250715T183000
DTSTAMP:20260420T095739
CREATED:20250709T124848Z
LAST-MODIFIED:20250709T124848Z
UID:2277-1752597000-1752604200@www.smogen.com
SUMMARY:Museerna och Bildarkivet
DESCRIPTION:Fiskarstugan\, Sjöbodsmuseet och Bildarkivet håller öppet tisdagar och torsdagar kl 16.30–18.30. Läs mer under hembygdsföreningen och dess sidor.
URL:https://www.smogen.com/event/museerna-och-bildarkivet-2025-07-15/
CATEGORIES:Hembygdsföreningen,Historia,Kultur,Utbildande
ATTACH;FMTTYPE=image/jpeg:https://www.smogen.com/wp-content/uploads/2022/06/Museet-1.jpg
END:VEVENT
BEGIN:VEVENT
DTSTART;TZID=Europe/Stockholm:20250716T100000
DTEND;TZID=Europe/Stockholm:20250716T120000
DTSTAMP:20260420T095739
CREATED:20250611T212327Z
LAST-MODIFIED:20250709T123607Z
UID:2238-1752660000-1752667200@www.smogen.com
SUMMARY:Guidad tur på Smögen
DESCRIPTION:med Lars Bredin \nOnsdag 16 juli kl. 10.00\nSamling vid Spruthuset på torget \nAvgift 100 kr
URL:https://www.smogen.com/event/guidad-tur-pa-smogen-2/
LOCATION:Spruthuset
CATEGORIES:Aktivitet,Hembygdsföreningen,Historia,Kultur,Möte,Socialt,Utbildande
ATTACH;FMTTYPE=image/jpeg:https://www.smogen.com/wp-content/uploads/2022/06/Ringareskar-2.jpg
END:VEVENT
BEGIN:VEVENT
DTSTART;TZID=Europe/Stockholm:20250717T163000
DTEND;TZID=Europe/Stockholm:20250717T183000
DTSTAMP:20260420T095739
CREATED:20250709T125000Z
LAST-MODIFIED:20250709T125000Z
UID:2278-1752769800-1752777000@www.smogen.com
SUMMARY:Museerna och Bildarkivet
DESCRIPTION:Fiskarstugan\, Sjöbodsmuseet och Bildarkivet håller öppet tisdagar och torsdagar kl 16.30–18.30. Läs mer under hembygdsföreningen och dess sidor.
URL:https://www.smogen.com/event/museerna-och-bildarkivet-2025-07-17/
CATEGORIES:Hembygdsföreningen,Historia,Kultur,Utbildande
ATTACH;FMTTYPE=image/jpeg:https://www.smogen.com/wp-content/uploads/2022/06/Museet-1.jpg
END:VEVENT
BEGIN:VEVENT
DTSTART;TZID=Europe/Stockholm:20250722T163000
DTEND;TZID=Europe/Stockholm:20250722T183000
DTSTAMP:20260420T095739
CREATED:20250709T125129Z
LAST-MODIFIED:20250709T125129Z
UID:2279-1753201800-1753209000@www.smogen.com
SUMMARY:Museerna och Bildarkivet
DESCRIPTION:Fiskarstugan\, Sjöbodsmuseet och Bildarkivet håller öppet tisdagar och torsdagar kl 16.30–18.30. Läs mer under hembygdsföreningen och dess sidor.
URL:https://www.smogen.com/event/museerna-och-bildarkivet-2025-07-22/
CATEGORIES:Hembygdsföreningen,Historia,Kultur,Utbildande
ATTACH;FMTTYPE=image/jpeg:https://www.smogen.com/wp-content/uploads/2022/06/Museet-1.jpg
END:VEVENT
BEGIN:VEVENT
DTSTART;TZID=Europe/Stockholm:20250724T163000
DTEND;TZID=Europe/Stockholm:20250724T183000
DTSTAMP:20260420T095739
CREATED:20250709T125232Z
LAST-MODIFIED:20250709T125232Z
UID:2280-1753374600-1753381800@www.smogen.com
SUMMARY:Museerna och Bildarkivet
DESCRIPTION:Fiskarstugan\, Sjöbodsmuseet och Bildarkivet håller öppet tisdagar och torsdagar kl 16.30–18.30. Läs mer under hembygdsföreningen och dess sidor.
URL:https://www.smogen.com/event/museerna-och-bildarkivet-2025-07-24/
CATEGORIES:Hembygdsföreningen,Historia,Kultur,Utbildande
ATTACH;FMTTYPE=image/jpeg:https://www.smogen.com/wp-content/uploads/2022/06/Museet-1.jpg
END:VEVENT
BEGIN:VEVENT
DTSTART;TZID=Europe/Stockholm:20250729T163000
DTEND;TZID=Europe/Stockholm:20250729T183000
DTSTAMP:20260420T095739
CREATED:20250709T125458Z
LAST-MODIFIED:20250709T125458Z
UID:2281-1753806600-1753813800@www.smogen.com
SUMMARY:Museerna och Bildarkivet
DESCRIPTION:Fiskarstugan\, Sjöbodsmuseet och Bildarkivet håller öppet tisdagar och torsdagar kl 16.30–18.30. Läs mer under hembygdsföreningen och dess sidor.
URL:https://www.smogen.com/event/museerna-och-bildarkivet-2025-07-29/
CATEGORIES:Hembygdsföreningen,Historia,Kultur,Utbildande
ATTACH;FMTTYPE=image/jpeg:https://www.smogen.com/wp-content/uploads/2022/06/Museet-1.jpg
END:VEVENT
BEGIN:VEVENT
DTSTART;TZID=Europe/Stockholm:20250731T163000
DTEND;TZID=Europe/Stockholm:20250731T183000
DTSTAMP:20260420T095739
CREATED:20250709T125615Z
LAST-MODIFIED:20250709T125615Z
UID:2282-1753979400-1753986600@www.smogen.com
SUMMARY:Museerna och Bildarkivet
DESCRIPTION:Fiskarstugan\, Sjöbodsmuseet och Bildarkivet håller öppet tisdagar och torsdagar kl 16.30–18.30. Läs mer under hembygdsföreningen och dess sidor.
URL:https://www.smogen.com/event/museerna-och-bildarkivet-2025-07-31/
CATEGORIES:Hembygdsföreningen,Historia,Kultur,Utbildande
ATTACH;FMTTYPE=image/jpeg:https://www.smogen.com/wp-content/uploads/2022/06/Museet-1.jpg
END:VEVENT
END:VCALENDAR