BEGIN:VCALENDAR
VERSION:2.0
PRODID:-//Smögens Öråd - ECPv6.15.11//NONSGML v1.0//EN
CALSCALE:GREGORIAN
METHOD:PUBLISH
X-WR-CALNAME:Smögens Öråd
X-ORIGINAL-URL:https://www.smogen.com
X-WR-CALDESC:Händelser för Smögens Öråd
REFRESH-INTERVAL;VALUE=DURATION:PT1H
X-Robots-Tag:noindex
X-PUBLISHED-TTL:PT1H
BEGIN:VTIMEZONE
TZID:Europe/Stockholm
BEGIN:DAYLIGHT
TZOFFSETFROM:+0100
TZOFFSETTO:+0200
TZNAME:CEST
DTSTART:20240331T010000
END:DAYLIGHT
BEGIN:STANDARD
TZOFFSETFROM:+0200
TZOFFSETTO:+0100
TZNAME:CET
DTSTART:20241027T010000
END:STANDARD
BEGIN:DAYLIGHT
TZOFFSETFROM:+0100
TZOFFSETTO:+0200
TZNAME:CEST
DTSTART:20250330T010000
END:DAYLIGHT
BEGIN:STANDARD
TZOFFSETFROM:+0200
TZOFFSETTO:+0100
TZNAME:CET
DTSTART:20251026T010000
END:STANDARD
BEGIN:DAYLIGHT
TZOFFSETFROM:+0100
TZOFFSETTO:+0200
TZNAME:CEST
DTSTART:20260329T010000
END:DAYLIGHT
BEGIN:STANDARD
TZOFFSETFROM:+0200
TZOFFSETTO:+0100
TZNAME:CET
DTSTART:20261025T010000
END:STANDARD
END:VTIMEZONE
BEGIN:VEVENT
DTSTART;TZID=Europe/Stockholm:20250906T093000
DTEND;TZID=Europe/Stockholm:20250906T110000
DTSTAMP:20260420T065943
CREATED:20250821T070249Z
LAST-MODIFIED:20250821T070249Z
UID:2354-1757151000-1757156400@www.smogen.com
SUMMARY:Smögenvandring - i samband med Island Of Light 2025
DESCRIPTION:Samling vid spruthuset på torget. \nAvgift 100 kr
URL:https://www.smogen.com/event/smogenvandring-i-samband-med-island-of-light-2025/
LOCATION:Spruthuset
CATEGORIES:Aktivitet,Hembygdsföreningen,Historia,Kultur,Utbildande
ATTACH;FMTTYPE=image/jpeg:https://www.smogen.com/wp-content/uploads/2023/06/Spruthuset-web.jpg
END:VEVENT
BEGIN:VEVENT
DTSTART;TZID=Europe/Stockholm:20250906T130000
DTEND;TZID=Europe/Stockholm:20250906T150000
DTSTAMP:20260420T065943
CREATED:20250905T141702Z
LAST-MODIFIED:20250905T141702Z
UID:2368-1757163600-1757170800@www.smogen.com
SUMMARY:Öppen guidning i Lotsutkiken
DESCRIPTION:Välkommen att besöka lotsutkiken och veta mer om dess historia!\nFör mer information:\nUrban Larsson 070-6331837\nLars Bredin 070-7315385
URL:https://www.smogen.com/event/oppen-guidning-i-lotsutkiken/
LOCATION:Lotsutkiken
CATEGORIES:Aktivitet,Historia,Kultur,Utbildande
ATTACH;FMTTYPE=image/jpeg:https://www.smogen.com/wp-content/uploads/2022/02/Lotsutkiken-lo.jpg
END:VEVENT
BEGIN:VEVENT
DTSTART;TZID=Europe/Stockholm:20250906T130000
DTEND;TZID=Europe/Stockholm:20250906T160000
DTSTAMP:20260420T065943
CREATED:20250821T072404Z
LAST-MODIFIED:20250821T072404Z
UID:2361-1757163600-1757174400@www.smogen.com
SUMMARY:Öppet i Bildarkivet - I samband med Island Of Light 2025
DESCRIPTION:Aktiviteter i samband med Island Of Light 2025: \nÖppet i Bildarkivet i kulturgränd kl 13-16
URL:https://www.smogen.com/event/oppet-i-bildarkivet-i-samband-med-island-of-light-2025/
LOCATION:Bildarkivet
CATEGORIES:Aktivitet,Hembygdsföreningen,Historia,Kultur,Socialt,Utbildande
ATTACH;FMTTYPE=image/jpeg:https://www.smogen.com/wp-content/uploads/2022/02/bildarkiv1.jpg
END:VEVENT
BEGIN:VEVENT
DTSTART;TZID=Europe/Stockholm:20250906T140000
DTEND;TZID=Europe/Stockholm:20250906T160000
DTSTAMP:20260420T065943
CREATED:20250821T071014Z
LAST-MODIFIED:20250821T071014Z
UID:2356-1757167200-1757174400@www.smogen.com
SUMMARY:Öppet i Sjöbodsmuseet - I samband med Island Of Light 2025
DESCRIPTION:Aktiviteter i samband med Island Of Light 2025 \nÖppet i Sjöbodsmuseet\, mitt på Smögenbryggan kl 14 – 16 \n 
URL:https://www.smogen.com/event/oppet-i-sjobodsmuseet-i-samband-med-island-of-light-2025/
CATEGORIES:Aktivitet,Hembygdsföreningen,Historia,Kultur,Socialt,Utbildande
ATTACH;FMTTYPE=image/jpeg:https://www.smogen.com/wp-content/uploads/2022/02/Sjobodsmuseet-smogen.jpg
END:VEVENT
BEGIN:VEVENT
DTSTART;TZID=Europe/Stockholm:20250907T100000
DTEND;TZID=Europe/Stockholm:20250907T120000
DTSTAMP:20260420T065943
CREATED:20250905T142651Z
LAST-MODIFIED:20250905T143352Z
UID:2374-1757239200-1757246400@www.smogen.com
SUMMARY:Geologisk vandring på Sandö
DESCRIPTION:Söndag 7/9 kl 10 – 12\nGuide: statsgeologen Thomas Eliasson \nKlipporna av Bohusgranit på Sandös utsida är spektakulära av inlandsisars och glaciärälvars nötande. \nVandringen startar vid badplatsen. Vi går upp till utsiktsplatsen och följer stigen över de renspolade granithällarna på Sandös västra sida till ”Mänstenen”. Vi ser märkliga strukturer i graniten som skapades när den bildades djupt nere i jordskorpan. \nVandringen är drygt 2\,5 km. \nAnmälan till (max 30 pers): Thomas Eliasson\, 073-0597466
URL:https://www.smogen.com/event/geologisk-vandring-pa-sando/
CATEGORIES:Aktivitet,Historia,Kultur,Natur,Utbildande
ATTACH;FMTTYPE=image/jpeg:https://www.smogen.com/wp-content/uploads/2025/09/Sandobild2-lo.jpg
END:VEVENT
BEGIN:VEVENT
DTSTART;TZID=Europe/Stockholm:20250912T130000
DTEND;TZID=Europe/Stockholm:20250912T150000
DTSTAMP:20260420T065943
CREATED:20250905T141927Z
LAST-MODIFIED:20250905T141927Z
UID:2370-1757682000-1757689200@www.smogen.com
SUMMARY:Öppen guidning i Lotsutkiken
DESCRIPTION:Välkommen att besöka lotsutkiken och veta mer om dess historia!\nFör mer information:\nUrban Larsson 070-6331837\nLars Bredin 070-7315385
URL:https://www.smogen.com/event/oppen-guidning-i-lotsutkiken-2/
LOCATION:Lotsutkiken
CATEGORIES:Aktivitet,Historia,Kultur,Utbildande
ATTACH;FMTTYPE=image/jpeg:https://www.smogen.com/wp-content/uploads/2022/02/Lotsutkiken-lo.jpg
END:VEVENT
BEGIN:VEVENT
DTSTART;TZID=Europe/Stockholm:20250913T130000
DTEND;TZID=Europe/Stockholm:20250913T150000
DTSTAMP:20260420T065943
CREATED:20250905T142023Z
LAST-MODIFIED:20250905T142023Z
UID:2371-1757768400-1757775600@www.smogen.com
SUMMARY:Öppen guidning i Lotsutkiken
DESCRIPTION:Välkommen att besöka lotsutkiken och veta mer om dess historia!\nFör mer information:\nUrban Larsson 070-6331837\nLars Bredin 070-7315385
URL:https://www.smogen.com/event/oppen-guidning-i-lotsutkiken-3/
LOCATION:Lotsutkiken
CATEGORIES:Aktivitet,Historia,Kultur,Utbildande
ATTACH;FMTTYPE=image/jpeg:https://www.smogen.com/wp-content/uploads/2022/02/Lotsutkiken-lo.jpg
END:VEVENT
BEGIN:VEVENT
DTSTART;TZID=Europe/Stockholm:20250913T140000
DTEND;TZID=Europe/Stockholm:20250913T160000
DTSTAMP:20260420T065943
CREATED:20250821T071709Z
LAST-MODIFIED:20250821T071709Z
UID:2358-1757772000-1757779200@www.smogen.com
SUMMARY:Öppet i Sjöbodsmuseet - I samband med Island Of Light 2025
DESCRIPTION:Aktiviteter i samband med Island Of Light 2025 \nÖppet i Sjöbodsmuseet\, mitt på Smögenbryggan kl 14 – 16 \n 
URL:https://www.smogen.com/event/oppet-i-sjobodsmuseet-i-samband-med-island-of-light-2025-2/
CATEGORIES:Aktivitet,Hembygdsföreningen,Historia,Kultur,Socialt,Utbildande
ATTACH;FMTTYPE=image/jpeg:https://www.smogen.com/wp-content/uploads/2022/02/Sjobodsmuseet-smogen.jpg
END:VEVENT
END:VCALENDAR